BEGIN:VCALENDAR
VERSION:2.0
PRODID:-//Association de jeux EDIL - ECPv6.11.2.1//NONSGML v1.0//EN
CALSCALE:GREGORIAN
METHOD:PUBLISH
X-WR-CALNAME:Association de jeux EDIL
X-ORIGINAL-URL:https://qualif.edil33.fr
X-WR-CALDESC:Évènements pour Association de jeux EDIL
REFRESH-INTERVAL;VALUE=DURATION:PT1H
X-Robots-Tag:noindex
X-PUBLISHED-TTL:PT1H
BEGIN:VTIMEZONE
TZID:Europe/Paris
BEGIN:DAYLIGHT
TZOFFSETFROM:+0100
TZOFFSETTO:+0200
TZNAME:CEST
DTSTART:20190331T010000
END:DAYLIGHT
BEGIN:STANDARD
TZOFFSETFROM:+0200
TZOFFSETTO:+0100
TZNAME:CET
DTSTART:20191027T010000
END:STANDARD
END:VTIMEZONE
BEGIN:VEVENT
DTSTART;TZID=Europe/Paris:20190602T140000
DTEND;TZID=Europe/Paris:20190602T180000
DTSTAMP:20260422T051926
CREATED:20190512T083029Z
LAST-MODIFIED:20190512T083029Z
UID:2283-1559484000-1559498400@qualif.edil33.fr
SUMMARY:League challenge
DESCRIPTION:Tournoi au format standard. Booster et carte promotionnelle pour les premiers.\nPAF : 3€ (+2€ pour les non-adhérents)
URL:https://qualif.edil33.fr/event/league-challenge-2/
LOCATION:EDIL\, 5 place sainte eulalie\, Bordeaux\, 33000\, France
CATEGORIES:Evenement Interne (de l'EDIL),jeux de plateau,Pokémon JCC
ATTACH;FMTTYPE=image/jpeg:https://qualif.edil33.fr/wp-content/uploads/2019/05/59157503_1079599238908543_5491935339494768640_o.jpg
END:VEVENT
BEGIN:VEVENT
DTSTART;TZID=Europe/Paris:20190608T100000
DTEND;TZID=Europe/Paris:20190610T190000
DTSTAMP:20260422T051926
CREATED:20190512T081911Z
LAST-MODIFIED:20190512T082007Z
UID:2277-1559988000-1560193200@qualif.edil33.fr
SUMMARY:Bordeaux Geek Festival 2019 5e édition "Rise of The Machines"
DESCRIPTION:« 5 ans déjà ! Le Bordeaux Geek Festival fêtera sa 5e édition les 8\, 9 et 10 juin 2019 ! Au programme : 3 jours d’animations incontournables et nos 5 labels : BGF ESport\, BGF Tech\, BGF Awards\, BGF Comics et le petit nouveau BGF Kids ! \nMais aussi le SFX Make-up\, les concours et défilés cosplay\, les expositions\, les conférences\, les dédicaces et bien plus encore ! \nPréparez-vous cette 5e année du Bordeaux Geek Festival s’annonce riche de surprises et de nouveautés ! » \nL’entrée est payante au festival (entre 15€ et 30€ en fonction du nombres de jours d’entrées que vous prenez. \nLe programme total est ici même. \nL’EDIL sera présente sur la partie Jeu de plateau du festival. N’hésitez pas à nous retrouver là bas. 🙂
URL:https://qualif.edil33.fr/event/bordeaux-geek-festival-2019-5e-edition-rise-of-the-machines/
LOCATION:Parc des Expositions\, Cours Jules Ladoumegue\, 33300 Bordeaux\, Bordeaux\, 33300\, France
CATEGORIES:Evénement Externe (Non-EDIL),Evenement Interne (de l'EDIL),jeux de plateau,Jeux de rôles,loup-garou
ATTACH;FMTTYPE=image/jpeg:https://qualif.edil33.fr/wp-content/uploads/2019/05/Gandalf_insta_1080x1080px.jpg
END:VEVENT
BEGIN:VEVENT
DTSTART;TZID=Europe/Paris:20190623T093000
DTEND;TZID=Europe/Paris:20190623T180000
DTSTAMP:20260422T051926
CREATED:20190512T083145Z
LAST-MODIFIED:20190512T083217Z
UID:2284-1561282200-1561312800@qualif.edil33.fr
SUMMARY:League Cup Alliance Infaillible
DESCRIPTION:League Cup Bordelais\, au format Standard.\nPAF : 8€ + 2€ d’adhésion à la journée\nAu moins un booster par participant.\nInscription à partir de 09h30.\nDébut du tournoi à 10h30. \nLe tournoi se déroulera au sein de l’association EDIL.
URL:https://qualif.edil33.fr/event/league-cup-alliance-infaillible/
LOCATION:EDIL\, 5 place sainte eulalie\, Bordeaux\, 33000\, France
CATEGORIES:Evenement Interne (de l'EDIL),jeux de plateau,Pokémon JCC
ATTACH;FMTTYPE=image/jpeg:https://qualif.edil33.fr/wp-content/uploads/2019/05/59157503_1079599238908543_5491935339494768640_o.jpg
END:VEVENT
BEGIN:VEVENT
DTSTART;TZID=Europe/Paris:20190629T190000
DTEND;TZID=Europe/Paris:20190629T230000
DTSTAMP:20260422T051926
CREATED:20181012T075339Z
LAST-MODIFIED:20190512T080410Z
UID:2111-1561834800-1561849200@qualif.edil33.fr
SUMMARY:Soirée Jeux de rôles avec des glaces
DESCRIPTION:Soirée JDR !\nSi vous voulez Masteriser publié directement sur cette page en indiquant l’univers et si possible avec une petite présentation du Scénario!\nSi vous voulez Jouer \, annoncez simplement votre intérêt dans la publication de la partie qui vous tente le plus !\nA vos dés ! \nDes glaces à 1€ les deux boules:\nVanille\, Fraise\, Chocolat\, Café\, Nutella\, .. \nSoirée Gratuite pour les membres adhérents\, 2€ pour les non-adhérents
URL:https://qualif.edil33.fr/event/soiree-jeux-de-roles-avec-des-glaces/
LOCATION:EDIL\, 5 place sainte eulalie\, Bordeaux\, 33000\, France
CATEGORIES:Evenement Interne (de l'EDIL),Soirée Mensuelle
ATTACH;FMTTYPE=image/jpeg:https://qualif.edil33.fr/wp-content/uploads/2018/10/JDR_facebook.jpg
END:VEVENT
END:VCALENDAR