BEGIN:VCALENDAR
VERSION:2.0
PRODID:-//Association de jeux EDIL - ECPv6.11.2.1//NONSGML v1.0//EN
CALSCALE:GREGORIAN
METHOD:PUBLISH
X-WR-CALNAME:Association de jeux EDIL
X-ORIGINAL-URL:https://qualif.edil33.fr
X-WR-CALDESC:Évènements pour Association de jeux EDIL
REFRESH-INTERVAL;VALUE=DURATION:PT1H
X-Robots-Tag:noindex
X-PUBLISHED-TTL:PT1H
BEGIN:VTIMEZONE
TZID:Europe/Paris
BEGIN:DAYLIGHT
TZOFFSETFROM:+0100
TZOFFSETTO:+0200
TZNAME:CEST
DTSTART:20190331T010000
END:DAYLIGHT
BEGIN:STANDARD
TZOFFSETFROM:+0200
TZOFFSETTO:+0100
TZNAME:CET
DTSTART:20191027T010000
END:STANDARD
END:VTIMEZONE
BEGIN:VEVENT
DTSTART;TZID=Europe/Paris:20190705T190000
DTEND;TZID=Europe/Paris:20190706T235500
DTSTAMP:20260422T033150
CREATED:20190608T065542Z
LAST-MODIFIED:20190608T065542Z
UID:2289-1562353200-1562457300@qualif.edil33.fr
SUMMARY:Bordel de Merde!
DESCRIPTION:Soirée-enquête pour 9 joueurs-joueuses (6 rôles masculins \, 3 rôles féminins se passant dans la France occupée de 1941. Débutant-e-s bienvenu-e-s ! \nCette murder est organisée par l’association EDIL-ASSO et se déroule au sein du café Le Tchai situé au 49 Rue du Miral à Bordeaux. \nNous l’organisons 2 soirs de suite : 5 et 6 Juillet 2019 (vendredi à samedi)\, au Tchaï Bar à Bordeaux. La PAF est de 18 € pour les membres de l’EDIL et 20€ pour les non membres (2€ d’adhésion à l’EDIL pour la soirée). La PAF nous permet de louer le lieux\, d’avoir un repas comme à l’époque et de fournir divers éléments d’immersions (affiches\, matériels\, etc…). \n« Lorient\, 5 décembre 1941. \nUne chape de plomb s’est abattue sur l’Europe occupée. Rien ne semble pouvoir arrêter le Reich victorieux : après avoir écrasé la France l’année précédente\, il est désormais aux portes de Moscou\, en Afrique du Nord\, en Grèce\, jusqu’en Norvège. Seule\, l’Angleterre poursuit la lutte\, inlassablement. Nombreux sont ceux qui prédisent sa défaite prochaine. Bombardée\, assiégée par les redoutables U-booten qui coulent le précieux ravitaillement en provenance des États-Unis\, que peut-elle faire ? \nPetite ville de pêcheurs de Bretagne\, Lorient vit à l’heure allemande. L’État-Major de la Kriegsmarine en a fait sa principale base de sous-marins\, et depuis plusieurs mois\, des dizaines de milliers d’ouvriers s’affairent à couler les millions de tonnes de béton armé nécessaire à sa construction. Une fois arrivé à son terme\, les terrifiants U-booten de l’amiral Dönitz pourront faire escale en toute impunité\, avant de reprendre leur moisson sanglante dans les eaux sombres de l’Atlantique.\nPour s’opposer à ce projet dantesque\, la Royal Air Force lance ses maigres forces dans la bataille. La nuit\, ses bombardiers viennent déverser leur cargaison de mort sur le port\, mais aussi sur la ville\, ses maisons\, ses écoles\, ses églises\, ses habitants qui furent autrefois des alliés. Aveugles\, les avions tuent sans distinguer soldats allemands\, ouvriers et civils\, ensevelis dans leurs maisons\, brûlés vifs par les incendies\, mutilés par le souffle des explosions. \nNon loin du port\, le black-out a plongé la ville dans une profonde obscurité. Néanmoins\, de la musique filtre encore à travers les lourds rideaux du café « Les délices de l’Orient ». Un rade minable\, situé sur les quais\, où des matelots de passage viennent trouver un peu de réconfort entre deux traversées. Un bar à putes miteux\, à qui l’arrivée des sous-mariniers de la Kriegsmarine a donné une seconde jeunesse.\nPlus tôt dans la soirée\, des matelots souriants\, grands et blonds\, enlaçaient les filles tandis que l’électrophone passait Lili Marlen. Il n’y a plus désormais que quelques habitués somnolents ou désabusés\, cherchant un ultime réconfort entre les bras mécaniques de quelques prostituées. \nMais pour les clients du bordel\, ce soir ne sera pas un soir ordinaire… » \nPour s’inscrire veuillez remplir et renvoyer le formulaire suivant à l’adresse murder.dtc@gmail.com : https://docs.google.com/document/d/1arnIA2AAVpZqWevXDUAmrHrhaK8zKwKL3MJ8So-J6zI/edit?usp=sharing
URL:https://qualif.edil33.fr/event/bordel-de-merde/
LOCATION:Le Tchaï\, 49 Rue du Miral\, Bordeaux\, 33000\, France
CATEGORIES:Evénement Externe (Non-EDIL),Evenement Interne (de l'EDIL),Murder-Party
ATTACH;FMTTYPE=image/jpeg:https://qualif.edil33.fr/wp-content/uploads/2019/06/murder.jpg
END:VEVENT
BEGIN:VEVENT
DTSTART;TZID=Europe/Paris:20190719T080000
DTEND;TZID=Europe/Paris:20190719T170000
DTSTAMP:20260422T033150
CREATED:20190719T202238Z
LAST-MODIFIED:20190719T202238Z
UID:2301-1563523200-1563555600@qualif.edil33.fr
SUMMARY:League Challenge
DESCRIPTION:Tournoi au format standard.\nBooster et carte promotionnelle pour les premiers.\nPAF : 3€ (+2€ pour les non-adhérents)
URL:https://qualif.edil33.fr/event/league-challenge-3/
LOCATION:EDIL\, 5 place sainte eulalie\, Bordeaux\, 33000\, France
CATEGORIES:Evenement Interne (de l'EDIL),Pokémon JCC
ATTACH;FMTTYPE=image/jpeg:https://qualif.edil33.fr/wp-content/uploads/2019/07/65591882_436766860501642_8345176766716837888_n.jpg
END:VEVENT
BEGIN:VEVENT
DTSTART;TZID=Europe/Paris:20190720T140000
DTEND;TZID=Europe/Paris:20190720T170000
DTSTAMP:20260422T033150
CREATED:20190719T202348Z
LAST-MODIFIED:20190719T202348Z
UID:2302-1563631200-1563642000@qualif.edil33.fr
SUMMARY:Petit Trollball EDIL
DESCRIPTION:Suite à l’engouement du sondage que j’ai posté il y a quelques temps\, je propose une petite session Trollball à partir de 13h30 le jeudi 30 mai car ce sera l’Ascension donc ce sera férié. \n—————- \nMais qu’est ce que le trollball?. \nCe jeu oppose deux équipes ou chacuns-chacunes des membres sont équipés d’armes de GN inoffensives en mousse et latex. Leur but est de marquer des points avec la tête de troll\, qui sert de balle\, chose rendue compliquée parce que tout le monde sur le terrain est armé. Des que l’on est touché par une épée de GN on met un genoux à terre. Ainsi il y a plusieurs manière de gagner. Par exemple en éliminant l’équipe adverse pour être tranquille pour marquer\, en faisant du jeu de passe et en courant et esquivant le plus vite possible\, etc. Une manche s’arrête lorsqu’un point est marqué ou que personne ne peut marquer (notamment parce que tout les joueurs-joueuses ont été touché par une arme) et ensuite on refait un engagement et ainsi de suite jusqu’à la fin de la mi-temps/du match.\n—————– \nRDV devant la statue de Toussaint Louverture au square Toussaint Louverture à 5-10min à pied de l’arrêt Stalingrad du TRAM A. \nVoici l’adresse complète: et un lien Map:\nSquare Louverture\nQuai des Queyries\, 33100 Bordeaux\nhttps://maps.app.goo.gl/haK5p \n—————- \nPour les besoins de ce premier trollball\, si vous avez des épées de GN apporter les pour que tout le monde puisse jouer.
URL:https://qualif.edil33.fr/event/petit-trollball-edil-2/
LOCATION:Square Toussaint Louverture\, Quai des Queyries\, Bordeaux\, 33100\, France Métropolitaine
CATEGORIES:Evenement Interne (de l'EDIL),Trollball
ATTACH;FMTTYPE=image/jpeg:https://qualif.edil33.fr/wp-content/uploads/2019/05/60013725_10218503957248402_1616746043787968512_o.jpg
END:VEVENT
BEGIN:VEVENT
DTSTART;TZID=Europe/Paris:20190720T150000
DTEND;TZID=Europe/Paris:20190720T190000
DTSTAMP:20260422T033150
CREATED:20190719T201906Z
LAST-MODIFIED:20190719T201938Z
UID:2298-1563634800-1563649200@qualif.edil33.fr
SUMMARY:Avant première Pokemon : Harmonie des Esprits
DESCRIPTION:Onyrik accueille à nouveau un tournoi du jeu de cartes Pokemon et c’est une Avant-première pour la dernière extension Harmonie des Esprits ! Pour l’occasion\, nous faisons à appel au savoir-faire de l’EDIL ! \nTournoi au format avant-première pour la dernière extension de Pokemon : Harmonie des Esprits.\nPour chaque joueur\, un pack d’AP et 4 boosters + 3 boosters de dotation pour l’ensemble des participants. \nPAF : 20€\nUne consommation (<4€) offerte\nMax 60 Personnes.
URL:https://qualif.edil33.fr/event/avant-premiere-pokemon-harmonie-des-esprits/
LOCATION:Onyrik\, 107 Cours Balguerie Stuttenberg\, Bordeaux\, 33300\, France
CATEGORIES:Evenement Interne (de l'EDIL),Pokémon JCC
ATTACH;FMTTYPE=image/jpeg:https://qualif.edil33.fr/wp-content/uploads/2019/07/65591882_436766860501642_8345176766716837888_n.jpg
END:VEVENT
BEGIN:VEVENT
DTSTART;TZID=Europe/Paris:20190727T140000
DTEND;TZID=Europe/Paris:20190727T190000
DTSTAMP:20260422T033150
CREATED:20190719T202127Z
LAST-MODIFIED:20190719T202127Z
UID:2300-1564236000-1564254000@qualif.edil33.fr
SUMMARY:Séance de ligue Pokemon
DESCRIPTION:Séance de ligue pour le jeu de carte Pokémon.\nVenez découvrir le jeu\, vous entraîner\, faire des échanges\, ou simplement passer un bon moment.\nAu programme principalement : découverte du format standard.\nNous serons accueillis par l’EDIL\, adhésion à la journée : 2€\nBuvette disponible sur place.
URL:https://qualif.edil33.fr/event/seance-de-ligue-pokemon/
LOCATION:EDIL\, 5 place sainte eulalie\, Bordeaux\, 33000\, France
CATEGORIES:Evenement Interne (de l'EDIL),Pokémon JCC
ATTACH;FMTTYPE=image/jpeg:https://qualif.edil33.fr/wp-content/uploads/2019/07/65591882_436766860501642_8345176766716837888_n.jpg
END:VEVENT
END:VCALENDAR