BEGIN:VCALENDAR
VERSION:2.0
PRODID:-//Association de jeux EDIL - ECPv6.11.2.1//NONSGML v1.0//EN
CALSCALE:GREGORIAN
METHOD:PUBLISH
X-WR-CALNAME:Association de jeux EDIL
X-ORIGINAL-URL:https://qualif.edil33.fr
X-WR-CALDESC:Évènements pour Association de jeux EDIL
REFRESH-INTERVAL;VALUE=DURATION:PT1H
X-Robots-Tag:noindex
X-PUBLISHED-TTL:PT1H
BEGIN:VTIMEZONE
TZID:Europe/Paris
BEGIN:DAYLIGHT
TZOFFSETFROM:+0100
TZOFFSETTO:+0200
TZNAME:CEST
DTSTART:20210328T010000
END:DAYLIGHT
BEGIN:STANDARD
TZOFFSETFROM:+0200
TZOFFSETTO:+0100
TZNAME:CET
DTSTART:20211031T010000
END:STANDARD
END:VTIMEZONE
BEGIN:VEVENT
DTSTART;TZID=Europe/Paris:20210606T080000
DTEND;TZID=Europe/Paris:20210606T170000
DTSTAMP:20260420T175235
CREATED:20210606T210629Z
LAST-MODIFIED:20210606T210707Z
UID:3000-1622966400-1622998800@qualif.edil33.fr
SUMMARY:test
DESCRIPTION:testtestes
URL:https://qualif.edil33.fr/event/test/
LOCATION:EDIL\, 5 place sainte eulalie\, Bordeaux\, 33000\, France
ATTACH;FMTTYPE=image/jpeg:https://qualif.edil33.fr/wp-content/uploads/2021/05/PERMANENCE.jpg
END:VEVENT
BEGIN:VEVENT
DTSTART;TZID=Europe/Paris:20210609T170000
DTEND;TZID=Europe/Paris:20210609T190000
DTSTAMP:20260420T175235
CREATED:20210603T191027Z
LAST-MODIFIED:20210603T192111Z
UID:2937-1623258000-1623265200@qualif.edil33.fr
SUMMARY:La Vraie Ouverture de l'EDIL
DESCRIPTION:Si vous ne savez quoi faire à partir de 17h\, les portes de l’EDIL seront ouverte !
URL:https://qualif.edil33.fr/event/la-vraie-ouverture-de-ledil/
LOCATION:EDIL\, 5 place sainte eulalie\, Bordeaux\, 33000\, France
CATEGORIES:PERMANENCE
END:VEVENT
BEGIN:VEVENT
DTSTART;TZID=Europe/Paris:20210609T190000
DTEND;TZID=Europe/Paris:20210609T220000
DTSTAMP:20260420T175235
CREATED:20210525T193157Z
LAST-MODIFIED:20210530T171528Z
UID:2912-1623265200-1623276000@qualif.edil33.fr
SUMMARY:Réouverture de l'EDIL!
DESCRIPTION:Grande nouvelle! On vous annonce la réouverture de l’asso pour le mercredi 9 Juin prochain à 19h! Donc dans 2 semaines RDV pour une première soirée de jeux après 7 mois de fermeture! 10 personnes maximum dans le local en même temps et port du masque obligatoire! Les futures permanences de l’EDIL seront communiquez petit à petit dans les prochains jours. On a hâte de vous retrouvez! ^^
URL:https://qualif.edil33.fr/event/reouverture-de-ledil/
LOCATION:EDIL\, 5 place sainte eulalie\, Bordeaux\, 33000\, France
CATEGORIES:Evenement Interne (de l'EDIL),PERMANENCE
ATTACH;FMTTYPE=image/jpeg:https://qualif.edil33.fr/wp-content/uploads/2021/05/REOUVERTURE_2021.jpg
END:VEVENT
BEGIN:VEVENT
DTSTART;TZID=Europe/Paris:20210610T150000
DTEND;TZID=Europe/Paris:20210610T190000
DTSTAMP:20260420T175235
CREATED:20210609T230355Z
LAST-MODIFIED:20210609T230506Z
UID:3033-1623337200-1623351600@qualif.edil33.fr
SUMMARY:Permanence Bushette / Kevin
DESCRIPTION:
URL:https://qualif.edil33.fr/event/permanence/
END:VEVENT
BEGIN:VEVENT
DTSTART;TZID=Europe/Paris:20210610T190000
DTEND;TZID=Europe/Paris:20210610T220000
DTSTAMP:20260420T175235
CREATED:20210530T172046Z
LAST-MODIFIED:20210610T052014Z
UID:2923-1623351600-1623362400@qualif.edil33.fr
SUMMARY:Permanence par Daveed
DESCRIPTION:Ouverture de l’EDIL par Daveed dès 19h
URL:https://qualif.edil33.fr/event/permanence-daveed/
LOCATION:EDIL\, 5 place sainte eulalie\, Bordeaux\, 33000\, France
CATEGORIES:Evenement Interne (de l'EDIL),PERMANENCE
ATTACH;FMTTYPE=image/jpeg:https://qualif.edil33.fr/wp-content/uploads/2021/05/PERMANENCE.jpg
END:VEVENT
BEGIN:VEVENT
DTSTART;TZID=Europe/Paris:20210611T190000
DTEND;TZID=Europe/Paris:20210611T220000
DTSTAMP:20260420T175235
CREATED:20210607T115009Z
LAST-MODIFIED:20210607T115009Z
UID:3019-1623438000-1623448800@qualif.edil33.fr
SUMMARY:Permanence par Daveed
DESCRIPTION:Ouverture de l’EDIL par Daveed dès 19h
URL:https://qualif.edil33.fr/event/permanence-par-daveed/
LOCATION:EDIL\, 5 place sainte eulalie\, Bordeaux\, 33000\, France
CATEGORIES:Evenement Interne (de l'EDIL),PERMANENCE
ATTACH;FMTTYPE=image/jpeg:https://qualif.edil33.fr/wp-content/uploads/2021/05/PERMANENCE.jpg
END:VEVENT
BEGIN:VEVENT
DTSTART;TZID=Europe/Paris:20210612T140000
DTEND;TZID=Europe/Paris:20210612T180000
DTSTAMP:20260420T175235
CREATED:20210608T085513Z
LAST-MODIFIED:20210608T085513Z
UID:3024-1623506400-1623520800@qualif.edil33.fr
SUMMARY:Permanence par Somberlord
DESCRIPTION:Permanence avec organisation de Pokemon
URL:https://qualif.edil33.fr/event/permanence-par-somberlord/
LOCATION:EDIL\, 5 place sainte eulalie\, Bordeaux\, 33000\, France
END:VEVENT
BEGIN:VEVENT
DTSTART;TZID=Europe/Paris:20210613T140000
DTEND;TZID=Europe/Paris:20210613T180000
DTSTAMP:20260420T175235
CREATED:20210608T085555Z
LAST-MODIFIED:20210608T085555Z
UID:3026-1623592800-1623607200@qualif.edil33.fr
SUMMARY:Permanence par Somberlord
DESCRIPTION:
URL:https://qualif.edil33.fr/event/permanence-par-somberlord-2/
LOCATION:EDIL\, 5 place sainte eulalie\, Bordeaux\, 33000\, France
END:VEVENT
BEGIN:VEVENT
DTSTART;TZID=Europe/Paris:20210613T180000
DTEND;TZID=Europe/Paris:20210613T220000
DTSTAMP:20260420T175235
CREATED:20210613T084042Z
LAST-MODIFIED:20210613T084054Z
UID:3043-1623607200-1623621600@qualif.edil33.fr
SUMMARY:Permanence par Daveed
DESCRIPTION:Ouverture de l’EDIL par Daveed dès 18h
URL:https://qualif.edil33.fr/event/permanence-par-daveed-2/
LOCATION:EDIL\, 5 place sainte eulalie\, Bordeaux\, 33000\, France
CATEGORIES:Evenement Interne (de l'EDIL),PERMANENCE
ATTACH;FMTTYPE=image/jpeg:https://qualif.edil33.fr/wp-content/uploads/2021/05/PERMANENCE.jpg
END:VEVENT
BEGIN:VEVENT
DTSTART;TZID=Europe/Paris:20210614T140000
DTEND;TZID=Europe/Paris:20210614T200000
DTSTAMP:20260420T175235
CREATED:20210614T072806Z
LAST-MODIFIED:20210614T082409Z
UID:3051-1623679200-1623700800@qualif.edil33.fr
SUMMARY:Permanence par Bushette
DESCRIPTION:Permanence par Bushette
URL:https://qualif.edil33.fr/event/permanence-par-bushette/
LOCATION:EDIL\, 5 place sainte eulalie\, Bordeaux\, 33000\, France
CATEGORIES:Evenement Interne (de l'EDIL),PERMANENCE
ATTACH;FMTTYPE=image/jpeg:https://qualif.edil33.fr/wp-content/uploads/2021/05/PERMANENCE.jpg
END:VEVENT
BEGIN:VEVENT
DTSTART;TZID=Europe/Paris:20210615T180000
DTEND;TZID=Europe/Paris:20210615T220000
DTSTAMP:20260420T175235
CREATED:20210610T122331Z
LAST-MODIFIED:20210610T122701Z
UID:3036-1623780000-1623794400@qualif.edil33.fr
SUMMARY:Permanence de Lilian
DESCRIPTION:
URL:https://qualif.edil33.fr/event/permanence-2/
LOCATION:EDIL\, 5 place sainte eulalie\, Bordeaux\, 33000\, France
CATEGORIES:PERMANENCE
ATTACH;FMTTYPE=image/jpeg:https://qualif.edil33.fr/wp-content/uploads/2021/05/PERMANENCE.jpg
END:VEVENT
BEGIN:VEVENT
DTSTART;TZID=Europe/Paris:20210616T170000
DTEND;TZID=Europe/Paris:20210616T220000
DTSTAMP:20260420T175235
CREATED:20210606T185240Z
LAST-MODIFIED:20210607T082745Z
UID:2956-1623862800-1623880800@qualif.edil33.fr
SUMMARY:Permanence par Beast
DESCRIPTION:Possibilité d’ouvrir plus tôt.
URL:https://qualif.edil33.fr/event/ouverture-du-local/
CATEGORIES:Evenement Interne (de l'EDIL),PERMANENCE
ATTACH;FMTTYPE=image/jpeg:https://qualif.edil33.fr/wp-content/uploads/2021/05/PERMANENCE.jpg
END:VEVENT
BEGIN:VEVENT
DTSTART;TZID=Europe/Paris:20210617T190000
DTEND;TZID=Europe/Paris:20210617T220000
DTSTAMP:20260420T175235
CREATED:20210617T124506Z
LAST-MODIFIED:20210617T124506Z
UID:3054-1623956400-1623967200@qualif.edil33.fr
SUMMARY:Permanence de torc
DESCRIPTION:Permanence de torc
URL:https://qualif.edil33.fr/event/permanence-de-torc/
LOCATION:EDIL\, 5 place sainte eulalie\, Bordeaux\, 33000\, France
CATEGORIES:Evenement Interne (de l'EDIL),PERMANENCE
ATTACH;FMTTYPE=image/jpeg:https://qualif.edil33.fr/wp-content/uploads/2021/05/PERMANENCE.jpg
END:VEVENT
BEGIN:VEVENT
DTSTART;TZID=Europe/Paris:20210618T170000
DTEND;TZID=Europe/Paris:20210618T220000
DTSTAMP:20260420T175235
CREATED:20210617T151320Z
LAST-MODIFIED:20210617T151320Z
UID:3061-1624035600-1624053600@qualif.edil33.fr
SUMMARY:Permanence par Damien (Flomyen)
DESCRIPTION:
URL:https://qualif.edil33.fr/event/permanence-20210618/
LOCATION:EDIL\, 5 place sainte eulalie\, Bordeaux\, 33000\, France
CATEGORIES:Evenement Interne (de l'EDIL),PERMANENCE
ORGANIZER;CN="Flomyen":MAILTO:cobaye4@hotmail.com
END:VEVENT
BEGIN:VEVENT
DTSTART;TZID=Europe/Paris:20210619T140000
DTEND;TZID=Europe/Paris:20210619T220000
DTSTAMP:20260420T175235
CREATED:20210617T151059Z
LAST-MODIFIED:20210617T151059Z
UID:3057-1624111200-1624140000@qualif.edil33.fr
SUMMARY:Permanence par Damien (Flomyen)
DESCRIPTION:
URL:https://qualif.edil33.fr/event/permanence-20210619/
LOCATION:EDIL\, 5 place sainte eulalie\, Bordeaux\, 33000\, France
CATEGORIES:Evenement Interne (de l'EDIL),PERMANENCE
ORGANIZER;CN="Flomyen":MAILTO:cobaye4@hotmail.com
END:VEVENT
BEGIN:VEVENT
DTSTART;TZID=Europe/Paris:20210620T140000
DTEND;TZID=Europe/Paris:20210620T220000
DTSTAMP:20260420T175235
CREATED:20210620T101439Z
LAST-MODIFIED:20210620T101502Z
UID:3067-1624197600-1624226400@qualif.edil33.fr
SUMMARY:Permanence par Bushette
DESCRIPTION:
URL:https://qualif.edil33.fr/event/permanence-20210620/
LOCATION:EDIL\, 5 place sainte eulalie\, Bordeaux\, 33000\, France
CATEGORIES:Evenement Interne (de l'EDIL),PERMANENCE
END:VEVENT
BEGIN:VEVENT
DTSTART;TZID=Europe/Paris:20210622T180000
DTEND;TZID=Europe/Paris:20210622T230000
DTSTAMP:20260420T175235
CREATED:20210619T102423Z
LAST-MODIFIED:20210619T102445Z
UID:3064-1624384800-1624402800@qualif.edil33.fr
SUMMARY:Permanence par Lilian
DESCRIPTION:
URL:https://qualif.edil33.fr/event/permanence-par-lilian/
LOCATION:EDIL\, 5 place sainte eulalie\, Bordeaux\, 33000\, France
CATEGORIES:PERMANENCE
ATTACH;FMTTYPE=image/jpeg:https://qualif.edil33.fr/wp-content/uploads/2021/05/PERMANENCE.jpg
END:VEVENT
BEGIN:VEVENT
DTSTART;TZID=Europe/Paris:20210623T170000
DTEND;TZID=Europe/Paris:20210623T220000
DTSTAMP:20260420T175235
CREATED:20210606T185716Z
LAST-MODIFIED:20210607T082828Z
UID:2959-1624467600-1624485600@qualif.edil33.fr
SUMMARY:Permanence par Beast
DESCRIPTION:Possibilité d’ouvrir plus tôt.
URL:https://qualif.edil33.fr/event/ouverture/
CATEGORIES:Evenement Interne (de l'EDIL),PERMANENCE
ATTACH;FMTTYPE=image/jpeg:https://qualif.edil33.fr/wp-content/uploads/2021/05/PERMANENCE.jpg
END:VEVENT
BEGIN:VEVENT
DTSTART;TZID=Europe/Paris:20210625T190000
DTEND;TZID=Europe/Paris:20210625T230000
DTSTAMP:20260420T175235
CREATED:20210625T165443Z
LAST-MODIFIED:20210625T165443Z
UID:3078-1624647600-1624662000@qualif.edil33.fr
SUMMARY:permanence imrovisée daveed
DESCRIPTION:Permanence de daveed
URL:https://qualif.edil33.fr/event/permanence-imrovisee-daveed/
LOCATION:EDIL\, 5 place sainte eulalie\, Bordeaux\, 33000\, France
CATEGORIES:Evenement Interne (de l'EDIL),PERMANENCE
ATTACH;FMTTYPE=image/jpeg:https://qualif.edil33.fr/wp-content/uploads/2021/05/PERMANENCE.jpg
END:VEVENT
BEGIN:VEVENT
DTSTART;TZID=Europe/Paris:20210626T143000
DTEND;TZID=Europe/Paris:20210626T183000
DTSTAMP:20260420T175235
CREATED:20210624T201709Z
LAST-MODIFIED:20210624T201903Z
UID:3072-1624717800-1624732200@qualif.edil33.fr
SUMMARY:Permanence de daveed
DESCRIPTION:Permanence de daveed de 14h30 à 18h30. \nJe viens animer une partie de JDR d’initiation. Soit Shaan Renaissance soit Freaks Squeele.  Il reste des places. Si vous voulez jouer envoyer un MP sur le discord de l’EDIL.
URL:https://qualif.edil33.fr/event/permanence-de-daveed/
LOCATION:EDIL\, 5 place sainte eulalie\, Bordeaux\, 33000\, France
CATEGORIES:Evenement Interne (de l'EDIL),Jeux de rôles,PERMANENCE
ATTACH;FMTTYPE=image/jpeg:https://qualif.edil33.fr/wp-content/uploads/2021/05/PERMANENCE.jpg
END:VEVENT
BEGIN:VEVENT
DTSTART;TZID=Europe/Paris:20210627T150000
DTEND;TZID=Europe/Paris:20210627T210000
DTSTAMP:20260420T175235
CREATED:20210627T101658Z
LAST-MODIFIED:20210627T101658Z
UID:3083-1624806000-1624827600@qualif.edil33.fr
SUMMARY:Permanence de daveed
DESCRIPTION:Permanence de daveed
URL:https://qualif.edil33.fr/event/permanence-de-daveed-2/
LOCATION:EDIL\, 5 place sainte eulalie\, Bordeaux\, 33000\, France
ATTACH;FMTTYPE=image/jpeg:https://qualif.edil33.fr/wp-content/uploads/2021/05/PERMANENCE.jpg
END:VEVENT
BEGIN:VEVENT
DTSTART;TZID=Europe/Paris:20210630T150000
DTEND;TZID=Europe/Paris:20210630T220000
DTSTAMP:20260420T175235
CREATED:20210606T190017Z
LAST-MODIFIED:20210625T174038Z
UID:2963-1625065200-1625090400@qualif.edil33.fr
SUMMARY:Permanence par Beast
DESCRIPTION:
URL:https://qualif.edil33.fr/event/ouverture-2/
CATEGORIES:Evenement Interne (de l'EDIL),PERMANENCE
ATTACH;FMTTYPE=image/jpeg:https://qualif.edil33.fr/wp-content/uploads/2021/05/PERMANENCE.jpg
END:VEVENT
END:VCALENDAR