BEGIN:VCALENDAR
VERSION:2.0
PRODID:-//Association de jeux EDIL - ECPv6.11.2.1//NONSGML v1.0//EN
CALSCALE:GREGORIAN
METHOD:PUBLISH
X-ORIGINAL-URL:https://qualif.edil33.fr
X-WR-CALDESC:Évènements pour Association de jeux EDIL
REFRESH-INTERVAL;VALUE=DURATION:PT1H
X-Robots-Tag:noindex
X-PUBLISHED-TTL:PT1H
BEGIN:VTIMEZONE
TZID:Europe/Paris
BEGIN:DAYLIGHT
TZOFFSETFROM:+0100
TZOFFSETTO:+0200
TZNAME:CEST
DTSTART:20210328T010000
END:DAYLIGHT
BEGIN:STANDARD
TZOFFSETFROM:+0200
TZOFFSETTO:+0100
TZNAME:CET
DTSTART:20211031T010000
END:STANDARD
END:VTIMEZONE
BEGIN:VEVENT
DTSTART;TZID=Europe/Paris:20210803T153000
DTEND;TZID=Europe/Paris:20210803T200000
DTSTAMP:20260420T145614
CREATED:20210802T160318Z
LAST-MODIFIED:20210803T123920Z
UID:3216-1628004600-1628020800@qualif.edil33.fr
SUMMARY:Permanence par Lilian
DESCRIPTION:
URL:https://qualif.edil33.fr/event/permanence-par-lilian-3/
LOCATION:EDIL\, 5 place sainte eulalie\, Bordeaux\, 33000\, France
ATTACH;FMTTYPE=image/jpeg:https://qualif.edil33.fr/wp-content/uploads/2021/05/PERMANENCE.jpg
END:VEVENT
BEGIN:VEVENT
DTSTART;TZID=Europe/Paris:20210804T140000
DTEND;TZID=Europe/Paris:20210804T180000
DTSTAMP:20260420T145614
CREATED:20210803T193131Z
LAST-MODIFIED:20210803T193131Z
UID:3228-1628085600-1628100000@qualif.edil33.fr
SUMMARY:Permanence par Daneel
DESCRIPTION:
URL:https://qualif.edil33.fr/event/permanence-par-daneel/
END:VEVENT
BEGIN:VEVENT
DTSTART;TZID=Europe/Paris:20210804T153000
DTEND;TZID=Europe/Paris:20210804T190000
DTSTAMP:20260420T145614
CREATED:20210803T212802Z
LAST-MODIFIED:20210803T212802Z
UID:3231-1628091000-1628103600@qualif.edil33.fr
SUMMARY:Permanence par Lilian
DESCRIPTION:
URL:https://qualif.edil33.fr/event/permanence-par-lilian-4/
LOCATION:EDIL\, 5 place sainte eulalie\, Bordeaux\, 33000\, France
ATTACH;FMTTYPE=image/jpeg:https://qualif.edil33.fr/wp-content/uploads/2021/05/PERMANENCE.jpg
END:VEVENT
BEGIN:VEVENT
DTSTART;TZID=Europe/Paris:20210805T170000
DTEND;TZID=Europe/Paris:20210805T233000
DTSTAMP:20260420T145614
CREATED:20210802T214200Z
LAST-MODIFIED:20210802T214200Z
UID:3223-1628182800-1628206200@qualif.edil33.fr
SUMMARY:Jérôme\, Père Manant
DESCRIPTION:
URL:https://qualif.edil33.fr/event/jerome-pere-manant/
LOCATION:EDIL\, 5 place sainte eulalie\, Bordeaux\, 33000\, France
END:VEVENT
BEGIN:VEVENT
DTSTART;TZID=Europe/Paris:20210805T173000
DTEND;TZID=Europe/Paris:20210805T233000
DTSTAMP:20260420T145614
CREATED:20210805T145845Z
LAST-MODIFIED:20210805T145922Z
UID:3233-1628184600-1628206200@qualif.edil33.fr
SUMMARY:Jérôme Père Manant
DESCRIPTION:
URL:https://qualif.edil33.fr/event/jerome-pere-manant-2/
LOCATION:EDIL\, 5 place sainte eulalie\, Bordeaux\, 33000\, France
END:VEVENT
BEGIN:VEVENT
DTSTART;TZID=Europe/Paris:20210806T190000
DTEND;TZID=Europe/Paris:20210806T233000
DTSTAMP:20260420T145614
CREATED:20210805T231435Z
LAST-MODIFIED:20210805T231435Z
UID:3237-1628276400-1628292600@qualif.edil33.fr
SUMMARY:Jérôme Père Manant
DESCRIPTION:
URL:https://qualif.edil33.fr/event/jerome-pere-manant-3/
LOCATION:EDIL\, 5 place sainte eulalie\, Bordeaux\, 33000\, France
END:VEVENT
BEGIN:VEVENT
DTSTART;TZID=Europe/Paris:20210807T170000
DTEND;TZID=Europe/Paris:20210807T233000
DTSTAMP:20260420T145614
CREATED:20210807T133242Z
LAST-MODIFIED:20210807T133242Z
UID:3241-1628355600-1628379000@qualif.edil33.fr
SUMMARY:Escape the dark Edil par Jérôme
DESCRIPTION:
URL:https://qualif.edil33.fr/event/escape-the-dark-edil-par-jerome/
LOCATION:EDIL\, 5 place sainte eulalie\, Bordeaux\, 33000\, France
END:VEVENT
BEGIN:VEVENT
DTSTART;TZID=Europe/Paris:20210809T190000
DTEND;TZID=Europe/Paris:20210809T230000
DTSTAMP:20260420T145614
CREATED:20210805T214159Z
LAST-MODIFIED:20210805T214159Z
UID:3235-1628535600-1628550000@qualif.edil33.fr
SUMMARY:Permanence par Lilian
DESCRIPTION:Permanence  & JDR
URL:https://qualif.edil33.fr/event/permanence-par-lilian-5/
LOCATION:EDIL\, 5 place sainte eulalie\, Bordeaux\, 33000\, France
ATTACH;FMTTYPE=image/jpeg:https://qualif.edil33.fr/wp-content/uploads/2021/05/PERMANENCE.jpg
END:VEVENT
BEGIN:VEVENT
DTSTART;TZID=Europe/Paris:20210810T190000
DTEND;TZID=Europe/Paris:20210810T233000
DTSTAMP:20260420T145615
CREATED:20210810T011716Z
LAST-MODIFIED:20210810T011716Z
UID:3248-1628622000-1628638200@qualif.edil33.fr
SUMMARY:Sire Jérôme de Corvée de Permanence de Bonne Humeur
DESCRIPTION:
URL:https://qualif.edil33.fr/event/sire-jerome-de-corvee-de-permanence-de-bonne-humeur/
LOCATION:EDIL\, 5 place sainte eulalie\, Bordeaux\, 33000\, France
END:VEVENT
BEGIN:VEVENT
DTSTART;TZID=Europe/Paris:20210811T180000
DTEND;TZID=Europe/Paris:20210811T220000
DTSTAMP:20260420T145615
CREATED:20210606T190714Z
LAST-MODIFIED:20210802T184309Z
UID:2975-1628704800-1628719200@qualif.edil33.fr
SUMMARY:Permanence par Beast
DESCRIPTION:Possibilité d’ouvrir plus tôt.
URL:https://qualif.edil33.fr/event/ouverture-8/
CATEGORIES:Evenement Interne (de l'EDIL),PERMANENCE
ATTACH;FMTTYPE=image/jpeg:https://qualif.edil33.fr/wp-content/uploads/2021/05/PERMANENCE.jpg
END:VEVENT
BEGIN:VEVENT
DTSTART;TZID=Europe/Paris:20210812T140000
DTEND;TZID=Europe/Paris:20210812T233000
DTSTAMP:20260420T145615
CREATED:20210810T012347Z
LAST-MODIFIED:20210811T230129Z
UID:3250-1628776800-1628811000@qualif.edil33.fr
SUMMARY:J'ai Rome en permanence
DESCRIPTION:
URL:https://qualif.edil33.fr/event/jai-rome-en-permanence/
LOCATION:EDIL\, 5 place sainte eulalie\, Bordeaux\, 33000\, France
END:VEVENT
BEGIN:VEVENT
DTSTART;TZID=Europe/Paris:20210814T140000
DTEND;TZID=Europe/Paris:20210814T180000
DTSTAMP:20260420T145615
CREATED:20210811T160507Z
LAST-MODIFIED:20210811T160507Z
UID:3253-1628949600-1628964000@qualif.edil33.fr
SUMMARY:Permanence par Somberlord
DESCRIPTION:
URL:https://qualif.edil33.fr/event/permanence-par-somberlord-3/
END:VEVENT
BEGIN:VEVENT
DTSTART;TZID=Europe/Paris:20210814T180000
DTEND;TZID=Europe/Paris:20210814T230000
DTSTAMP:20260420T145615
CREATED:20210814T145336Z
LAST-MODIFIED:20210814T164855Z
UID:3272-1628964000-1628982000@qualif.edil33.fr
SUMMARY:Permanence (suite) Annulée cause Pass Sanitaire
DESCRIPTION:
URL:https://qualif.edil33.fr/event/annule/
LOCATION:EDIL\, 5 place sainte eulalie\, Bordeaux\, 33000\, France
END:VEVENT
BEGIN:VEVENT
DTSTART;TZID=Europe/Paris:20210814T190000
DTEND;TZID=Europe/Paris:20210814T233000
DTSTAMP:20260420T145615
CREATED:20210814T164946Z
LAST-MODIFIED:20210814T165039Z
UID:3275-1628967600-1628983800@qualif.edil33.fr
SUMMARY:Permanence Jérôme annulée cause Pass Sanitaire
DESCRIPTION:
URL:https://qualif.edil33.fr/event/permanence-jerome-annulee-cause-pass-sanitaire/
LOCATION:EDIL\, 5 place sainte eulalie\, Bordeaux\, 33000\, France
END:VEVENT
BEGIN:VEVENT
DTSTART;TZID=Europe/Paris:20210815T140000
DTEND;TZID=Europe/Paris:20210815T170000
DTSTAMP:20260420T145615
CREATED:20210813T174912Z
LAST-MODIFIED:20210813T174912Z
UID:3261-1629036000-1629046800@qualif.edil33.fr
SUMMARY:Permanence d'Alex
DESCRIPTION:Ceci est un texte de remplissage. L’heure de fin est approximative.
URL:https://qualif.edil33.fr/event/permanence-dalex/
LOCATION:EDIL\, 5 place sainte eulalie\, Bordeaux\, 33000\, France
CATEGORIES:PERMANENCE
END:VEVENT
BEGIN:VEVENT
DTSTART;TZID=Europe/Paris:20210818T173000
DTEND;TZID=Europe/Paris:20210818T200000
DTSTAMP:20260420T145615
CREATED:20210816T145919Z
LAST-MODIFIED:20210816T145919Z
UID:3290-1629307800-1629316800@qualif.edil33.fr
SUMMARY:Permanence par Pierre
DESCRIPTION:Horaire de fin approximatif.\nPossibilité d’ouvrir plus tôt sur demande.
URL:https://qualif.edil33.fr/event/permanence-par-pierre/
END:VEVENT
BEGIN:VEVENT
DTSTART;TZID=Europe/Paris:20210820T180000
DTEND;TZID=Europe/Paris:20210820T233000
DTSTAMP:20260420T145615
CREATED:20210815T175349Z
LAST-MODIFIED:20210815T175349Z
UID:3280-1629482400-1629502200@qualif.edil33.fr
SUMMARY:Conseils aux MJ Débutant-e-s
DESCRIPTION:En ce moment il y a une forte demande en partie de JDR de la part de joueurs-joueuses débutant-e-s et expérimenté-e-s mais également un manque flagrants de MJ. \n\nDe nombreuses personnes hésitent à se lancer en tant que MJ et on peut être besoin de conseils. Pour se lancer dans le magnifique bain d’être le conteur-conteuse d’une partie de JDR on fait cette petite soirée discussion et parlote pour se donner des conseils en toute modestie.\nEt si l’envie nous en dis ce sera l’occasion de faire une petite partie de JDR de courte durée 30/40min sur le système très simple SOMBRE LIGHT. \n\nRendez vous dès 18h à l’EDIL le vendredi 20 Aout. \n\nOn oublie pas l’accès au local de l’association est possible si vous avez votre pass sanitaire valide (2 doses vaccinales\, Test PCR ou antigénique négatif de moins de 72h) et aussi on oublie pas que devenir membre à l’EDIL est obligatoire (à la journée\, au mois ou à l’année).\n(image de couverture par Olie Baldador).\n 
URL:https://qualif.edil33.fr/event/conseils-aux-mj-debutant-e-s/
LOCATION:EDIL\, 5 place sainte eulalie\, Bordeaux\, 33000\, France
CATEGORIES:Evenement Interne (de l'EDIL),Jeux de rôles
ATTACH;FMTTYPE=image/jpeg:https://qualif.edil33.fr/wp-content/uploads/2021/08/238326978_10225515802140142_7130712325219422897_n.jpg
END:VEVENT
BEGIN:VEVENT
DTSTART;TZID=Europe/Paris:20210822T140000
DTEND;TZID=Europe/Paris:20210822T180000
DTSTAMP:20260420T145615
CREATED:20210819T163727Z
LAST-MODIFIED:20210819T163739Z
UID:3294-1629640800-1629655200@qualif.edil33.fr
SUMMARY:Non officielle : AP pokémon
DESCRIPTION:L’association Ligue in Bordeaux sera présente pour faire découvrir le jeu de carte à collectionner Pokémon. \nPasse sanitaire valide obligatoire pour entrer au sein de l’EDIL
URL:https://qualif.edil33.fr/event/non-officielle-ap-pokemon/
LOCATION:EDIL\, 5 place sainte eulalie\, Bordeaux\, 33000\, France
CATEGORIES:Pokémon JCC
END:VEVENT
BEGIN:VEVENT
DTSTART;TZID=Europe/Paris:20210823T160000
DTEND;TZID=Europe/Paris:20210823T220000
DTSTAMP:20260420T145615
CREATED:20210823T075346Z
LAST-MODIFIED:20210823T075346Z
UID:3301-1629734400-1629756000@qualif.edil33.fr
SUMMARY:Permanence Jeux de Plateaux
DESCRIPTION:Venez tester des jeux de plateaux 😀
URL:https://qualif.edil33.fr/event/permanence-jeux-de-plateaux/
LOCATION:EDIL\, 5 place sainte eulalie\, Bordeaux\, 33000\, France
CATEGORIES:jeux de plateau
END:VEVENT
BEGIN:VEVENT
DTSTART;TZID=Europe/Paris:20210824T163000
DTEND;TZID=Europe/Paris:20210824T200000
DTSTAMP:20260420T145615
CREATED:20210822T154116Z
LAST-MODIFIED:20210822T154116Z
UID:3298-1629822600-1629835200@qualif.edil33.fr
SUMMARY:Permanence par Pierre
DESCRIPTION:Horaire de fin approximatif
URL:https://qualif.edil33.fr/event/permanence-par-pierre-2/
END:VEVENT
BEGIN:VEVENT
DTSTART;TZID=Europe/Paris:20210827T170000
DTEND;TZID=Europe/Paris:20210827T233000
DTSTAMP:20260420T145615
CREATED:20210825T161354Z
LAST-MODIFIED:20210825T161354Z
UID:3307-1630083600-1630107000@qualif.edil33.fr
SUMMARY:Permanence Daveed
DESCRIPTION:
URL:https://qualif.edil33.fr/event/permanence-daveed-5/
LOCATION:EDIL\, 5 place sainte eulalie\, Bordeaux\, 33000\, France
CATEGORIES:Evenement Interne (de l'EDIL),PERMANENCE
END:VEVENT
BEGIN:VEVENT
DTSTART;TZID=Europe/Paris:20210828T110000
DTEND;TZID=Europe/Paris:20210829T180000
DTSTAMP:20260420T145615
CREATED:20210816T083228Z
LAST-MODIFIED:20210816T083321Z
UID:3283-1630148400-1630260000@qualif.edil33.fr
SUMMARY:Je joue à Bord'O - Festival Ludique - Jeux de société
DESCRIPTION:Les acteurs du monde ludique Bordelais et les commerçants de le rue Saint Sernin organise la première édition du festival Je Joue à Bord’O\, qui se déroulera les 28 et 29 août 2021 prochain\, rue Saint Sernin. \n\nAu programme :\n– Découverte des jeux de société modernes\n– Parties entre amis ou en famille\n– Jeux géants\n– Concours\n– Boisson et restauration assurées par les commerçants du quartier : La petite Mirepoix\, le blé en herbe\, VJ cantine\nLes équipes de l’ensemble des organisateurs seront ravies de vous y retrouvez pour partager leur passion et conclure cet été sous le signe du jeu ! \n\nL’EDIL sera présente pour présenter son association\, du jeux de plateau et du JDR.
URL:https://qualif.edil33.fr/event/je-joue-a-bordo-festival-ludique-jeux-de-societe/
LOCATION:Rue St Sernin 33000 BORDEAUX\, Rue St Sernin\, Bordeaux\, 33000\, France
CATEGORIES:Evénement Externe (Non-EDIL),jeux de plateau,Jeux de rôles
ATTACH;FMTTYPE=image/png:https://qualif.edil33.fr/wp-content/uploads/2021/08/222664169_114622274233441_8647695527255166296_n.png
END:VEVENT
BEGIN:VEVENT
DTSTART;TZID=Europe/Paris:20210829T080000
DTEND;TZID=Europe/Paris:20210829T170000
DTSTAMP:20260420T145615
CREATED:20210829T120855Z
LAST-MODIFIED:20210829T120855Z
UID:3310-1630224000-1630256400@qualif.edil33.fr
SUMMARY:Permanence par Pierre
DESCRIPTION:17h00 – 20h00 Horaire de fin approximatif
URL:https://qualif.edil33.fr/event/permanence-par-pierre-3/
END:VEVENT
BEGIN:VEVENT
DTSTART;TZID=Europe/Paris:20210830T183000
DTEND;TZID=Europe/Paris:20210830T183000
DTSTAMP:20260420T145615
CREATED:20210829T212918Z
LAST-MODIFIED:20210829T212918Z
UID:3313-1630348200-1630348200@qualif.edil33.fr
SUMMARY:permanence d'alex
DESCRIPTION:À partir de 18h30. N’oubliez pas votre pass sanitaire.
URL:https://qualif.edil33.fr/event/permanence-dalex-2/
LOCATION:EDIL\, 5 place sainte eulalie\, Bordeaux\, 33000\, France
END:VEVENT
BEGIN:VEVENT
DTSTART;TZID=Europe/Paris:20210831T170000
DTEND;TZID=Europe/Paris:20210831T220000
DTSTAMP:20260420T145615
CREATED:20210831T064712Z
LAST-MODIFIED:20210831T064712Z
UID:3322-1630429200-1630447200@qualif.edil33.fr
SUMMARY:Permanence daveed
DESCRIPTION:
URL:https://qualif.edil33.fr/event/permanence-daveed-6/
LOCATION:EDIL\, 5 place sainte eulalie\, Bordeaux\, 33000\, France
CATEGORIES:Evenement Interne (de l'EDIL),PERMANENCE
END:VEVENT
END:VCALENDAR