BEGIN:VCALENDAR
VERSION:2.0
PRODID:-//Association de jeux EDIL - ECPv6.11.2.1//NONSGML v1.0//EN
CALSCALE:GREGORIAN
METHOD:PUBLISH
X-WR-CALNAME:Association de jeux EDIL
X-ORIGINAL-URL:https://qualif.edil33.fr
X-WR-CALDESC:Évènements pour Association de jeux EDIL
REFRESH-INTERVAL;VALUE=DURATION:PT1H
X-Robots-Tag:noindex
X-PUBLISHED-TTL:PT1H
BEGIN:VTIMEZONE
TZID:Europe/Paris
BEGIN:DAYLIGHT
TZOFFSETFROM:+0100
TZOFFSETTO:+0200
TZNAME:CEST
DTSTART:20210328T010000
END:DAYLIGHT
BEGIN:STANDARD
TZOFFSETFROM:+0200
TZOFFSETTO:+0100
TZNAME:CET
DTSTART:20211031T010000
END:STANDARD
BEGIN:DAYLIGHT
TZOFFSETFROM:+0100
TZOFFSETTO:+0200
TZNAME:CEST
DTSTART:20220327T010000
END:DAYLIGHT
BEGIN:STANDARD
TZOFFSETFROM:+0200
TZOFFSETTO:+0100
TZNAME:CET
DTSTART:20221030T010000
END:STANDARD
END:VTIMEZONE
BEGIN:VEVENT
DTSTART;TZID=Europe/Paris:20211231T170000
DTEND;TZID=Europe/Paris:20220101T020000
DTSTAMP:20260420T073434
CREATED:20211230T234749Z
LAST-MODIFIED:20211230T235013Z
UID:3654-1640970000-1641002400@qualif.edil33.fr
SUMMARY:Permanence du réveillon du nouvel an
DESCRIPTION:
URL:https://qualif.edil33.fr/event/permanence-du-reveillon-du-nouvel-an-2022/
LOCATION:EDIL\, 5 place sainte eulalie\, Bordeaux\, 33000\, France
CATEGORIES:Evenement Interne (de l'EDIL),PERMANENCE
ORGANIZER;CN="Flomyen":MAILTO:cobaye4@hotmail.com
END:VEVENT
BEGIN:VEVENT
DTSTART;TZID=Europe/Paris:20220101T140000
DTEND;TZID=Europe/Paris:20220101T220000
DTSTAMP:20260420T073434
CREATED:20211230T234923Z
LAST-MODIFIED:20211230T234944Z
UID:3656-1641045600-1641074400@qualif.edil33.fr
SUMMARY:Permanence du nouvel an
DESCRIPTION:
URL:https://qualif.edil33.fr/event/permanence-du-nouvel-an-2022/
LOCATION:EDIL\, 5 place sainte eulalie\, Bordeaux\, 33000\, France
CATEGORIES:Evenement Interne (de l'EDIL),PERMANENCE
ORGANIZER;CN="Flomyen":MAILTO:cobaye4@hotmail.com
END:VEVENT
BEGIN:VEVENT
DTSTART;TZID=Europe/Paris:20220103T170000
DTEND;TZID=Europe/Paris:20220103T210000
DTSTAMP:20260420T073434
CREATED:20220103T130040Z
LAST-MODIFIED:20220103T130040Z
UID:3658-1641229200-1641243600@qualif.edil33.fr
SUMMARY:Permanence Drym
DESCRIPTION:
URL:https://qualif.edil33.fr/event/permanence-drym-9/
LOCATION:EDIL\, 5 place sainte eulalie\, Bordeaux\, 33000\, France
CATEGORIES:Evenement Interne (de l'EDIL),PERMANENCE
END:VEVENT
BEGIN:VEVENT
DTSTART;TZID=Europe/Paris:20220107T163000
DTEND;TZID=Europe/Paris:20220107T230000
DTSTAMP:20260420T073434
CREATED:20220104T191814Z
LAST-MODIFIED:20220104T191814Z
UID:3661-1641573000-1641596400@qualif.edil33.fr
SUMMARY:Permanence Drym
DESCRIPTION:
URL:https://qualif.edil33.fr/event/permanence-drym-10/
LOCATION:EDIL\, 5 place sainte eulalie\, Bordeaux\, 33000\, France
CATEGORIES:PERMANENCE
END:VEVENT
BEGIN:VEVENT
DTSTART;TZID=Europe/Paris:20220108T140000
DTEND;TZID=Europe/Paris:20220108T223000
DTSTAMP:20260420T073434
CREATED:20220105T183836Z
LAST-MODIFIED:20220106T094738Z
UID:3663-1641650400-1641681000@qualif.edil33.fr
SUMMARY:Permanence daveed
DESCRIPTION:
URL:https://qualif.edil33.fr/event/permanence-daveed-18/
LOCATION:EDIL\, 5 place sainte eulalie\, Bordeaux\, 33000\, France
CATEGORIES:Evenement Interne (de l'EDIL),PERMANENCE
ATTACH;FMTTYPE=image/jpeg:https://qualif.edil33.fr/wp-content/uploads/2021/05/PERMANENCE.jpg
END:VEVENT
BEGIN:VEVENT
DTSTART;TZID=Europe/Paris:20220109T140000
DTEND;TZID=Europe/Paris:20220109T220000
DTSTAMP:20260420T073434
CREATED:20220109T125659Z
LAST-MODIFIED:20220109T125659Z
UID:3675-1641736800-1641765600@qualif.edil33.fr
SUMMARY:Permanence
DESCRIPTION:
URL:https://qualif.edil33.fr/event/permanence-13/
LOCATION:EDIL\, 5 place sainte eulalie\, Bordeaux\, 33000\, France
CATEGORIES:Evenement Interne (de l'EDIL),jeux de figurines,Jeux de rôles,PERMANENCE
ORGANIZER;CN="Flomyen":MAILTO:cobaye4@hotmail.com
END:VEVENT
BEGIN:VEVENT
DTSTART;TZID=Europe/Paris:20220109T150000
DTEND;TZID=Europe/Paris:20220109T190000
DTSTAMP:20260420T073434
CREATED:20220109T121824Z
LAST-MODIFIED:20220109T121824Z
UID:3672-1641740400-1641754800@qualif.edil33.fr
SUMMARY:ouverture 15h
DESCRIPTION:Ouverture à 15h par Alex
URL:https://qualif.edil33.fr/event/ouverture-15h/
END:VEVENT
BEGIN:VEVENT
DTSTART;TZID=Europe/Paris:20220112T180000
DTEND;TZID=Europe/Paris:20220112T220000
DTSTAMP:20260420T073434
CREATED:20220106T130317Z
LAST-MODIFIED:20220106T130505Z
UID:3666-1642010400-1642024800@qualif.edil33.fr
SUMMARY:Permanence murlock
DESCRIPTION:
URL:https://qualif.edil33.fr/event/permanence-murlock-5/
LOCATION:EDIL\, 5 place sainte eulalie\, Bordeaux\, 33000\, France
END:VEVENT
BEGIN:VEVENT
DTSTART;TZID=Europe/Paris:20220113T193000
DTEND;TZID=Europe/Paris:20220113T230000
DTSTAMP:20260420T073434
CREATED:20220113T150805Z
LAST-MODIFIED:20220113T150820Z
UID:3680-1642102200-1642114800@qualif.edil33.fr
SUMMARY:Permanrnce daveed
DESCRIPTION:
URL:https://qualif.edil33.fr/event/permanrnce-daveed/
LOCATION:EDIL\, 5 place sainte eulalie\, Bordeaux\, 33000\, France
CATEGORIES:Evenement Interne (de l'EDIL),PERMANENCE
END:VEVENT
BEGIN:VEVENT
DTSTART;TZID=Europe/Paris:20220114T163000
DTEND;TZID=Europe/Paris:20220114T230000
DTSTAMP:20260420T073434
CREATED:20220110T180443Z
LAST-MODIFIED:20220110T180443Z
UID:3677-1642177800-1642201200@qualif.edil33.fr
SUMMARY:Permanence Drym
DESCRIPTION:
URL:https://qualif.edil33.fr/event/permanence-drym-11/
LOCATION:EDIL\, 5 place sainte eulalie\, Bordeaux\, 33000\, France
END:VEVENT
BEGIN:VEVENT
DTSTART;TZID=Europe/Paris:20220115T140000
DTEND;TZID=Europe/Paris:20220115T180000
DTSTAMP:20260420T073434
CREATED:20220113T204941Z
LAST-MODIFIED:20220113T204941Z
UID:3683-1642255200-1642269600@qualif.edil33.fr
SUMMARY:permanence murlock
DESCRIPTION:
URL:https://qualif.edil33.fr/event/permanence-murlock-7/
LOCATION:EDIL\, 5 place sainte eulalie\, Bordeaux\, 33000\, France
CATEGORIES:Evenement Interne (de l'EDIL),PERMANENCE
END:VEVENT
BEGIN:VEVENT
DTSTART;TZID=Europe/Paris:20220115T190000
DTEND;TZID=Europe/Paris:20220115T220000
DTSTAMP:20260420T073434
CREATED:20220115T174437Z
LAST-MODIFIED:20220115T174949Z
UID:3687-1642273200-1642284000@qualif.edil33.fr
SUMMARY:Soirée nuitards
DESCRIPTION:Ouvert de 19h à 22h
URL:https://qualif.edil33.fr/event/soiree-nuitards/
LOCATION:EDIL\, 5 place sainte eulalie\, Bordeaux\, 33000\, France
END:VEVENT
BEGIN:VEVENT
DTSTART;TZID=Europe/Paris:20220116T140000
DTEND;TZID=Europe/Paris:20220116T180000
DTSTAMP:20260420T073434
CREATED:20220115T165427Z
LAST-MODIFIED:20220115T165427Z
UID:3685-1642341600-1642356000@qualif.edil33.fr
SUMMARY:permanence panda
DESCRIPTION:
URL:https://qualif.edil33.fr/event/permanence-panda/
LOCATION:EDIL\, 5 place sainte eulalie\, Bordeaux\, 33000\, France
END:VEVENT
BEGIN:VEVENT
DTSTART;TZID=Europe/Paris:20220121T163000
DTEND;TZID=Europe/Paris:20220121T190000
DTSTAMP:20260420T073434
CREATED:20220119T163557Z
LAST-MODIFIED:20220120T173709Z
UID:3711-1642782600-1642791600@qualif.edil33.fr
SUMMARY:Ouverture Drym
DESCRIPTION:
URL:https://qualif.edil33.fr/event/permanence-drym-12/
LOCATION:EDIL\, 5 place sainte eulalie\, Bordeaux\, 33000\, France
CATEGORIES:PERMANENCE
END:VEVENT
BEGIN:VEVENT
DTSTART;TZID=Europe/Paris:20220121T190000
DTEND;TZID=Europe/Paris:20220121T233000
DTSTAMP:20260420T073434
CREATED:20220117T214703Z
LAST-MODIFIED:20220117T214703Z
UID:3708-1642791600-1642807800@qualif.edil33.fr
SUMMARY:Permanence daveed
DESCRIPTION:Je fais une partie de JDR « Chateau Falkenstein ». Si je peux avoir la salle du fond c’est mieux.
URL:https://qualif.edil33.fr/event/permanence-daveed-19/
LOCATION:EDIL\, 5 place sainte eulalie\, Bordeaux\, 33000\, France
CATEGORIES:Evenement Interne (de l'EDIL),PERMANENCE
END:VEVENT
BEGIN:VEVENT
DTSTART;TZID=Europe/Paris:20220122T150000
DTEND;TZID=Europe/Paris:20220122T200000
DTSTAMP:20260420T073434
CREATED:20220121T122456Z
LAST-MODIFIED:20220122T125626Z
UID:3714-1642863600-1642881600@qualif.edil33.fr
SUMMARY:Permanence Yunyun
DESCRIPTION:
URL:https://qualif.edil33.fr/event/permanence-yunyun-6/
LOCATION:EDIL\, 5 place sainte eulalie\, Bordeaux\, 33000\, France
CATEGORIES:Evenement Interne (de l'EDIL),PERMANENCE
END:VEVENT
BEGIN:VEVENT
DTSTART;TZID=Europe/Paris:20220123T140000
DTEND;TZID=Europe/Paris:20220123T180000
DTSTAMP:20260420T073434
CREATED:20220122T091634Z
LAST-MODIFIED:20220122T091634Z
UID:3719-1642946400-1642960800@qualif.edil33.fr
SUMMARY:Permanence Panda
DESCRIPTION:
URL:https://qualif.edil33.fr/event/permanence-panda-2/
CATEGORIES:PERMANENCE
END:VEVENT
BEGIN:VEVENT
DTSTART;TZID=Europe/Paris:20220128T163000
DTEND;TZID=Europe/Paris:20220128T233000
DTSTAMP:20260420T073434
CREATED:20220127T061340Z
LAST-MODIFIED:20220127T061340Z
UID:3724-1643387400-1643412600@qualif.edil33.fr
SUMMARY:Permanence Drym
DESCRIPTION:
URL:https://qualif.edil33.fr/event/permanence-drym-13/
LOCATION:EDIL\, 5 place sainte eulalie\, Bordeaux\, 33000\, France
END:VEVENT
BEGIN:VEVENT
DTSTART;TZID=Europe/Paris:20220129T140000
DTEND;TZID=Europe/Paris:20220129T233000
DTSTAMP:20260420T073434
CREATED:20220129T135156Z
LAST-MODIFIED:20220130T122254Z
UID:3743-1643464800-1643499000@qualif.edil33.fr
SUMMARY:Permanence Drym
DESCRIPTION:
URL:https://qualif.edil33.fr/event/permanence-bryce/
LOCATION:EDIL\, 5 place sainte eulalie\, Bordeaux\, 33000\, France
CATEGORIES:Evenement Interne (de l'EDIL),PERMANENCE
END:VEVENT
BEGIN:VEVENT
DTSTART;TZID=Europe/Paris:20220130T140000
DTEND;TZID=Europe/Paris:20220130T180000
DTSTAMP:20260420T073434
CREATED:20220127T072252Z
LAST-MODIFIED:20220127T072252Z
UID:3726-1643551200-1643565600@qualif.edil33.fr
SUMMARY:Permanence Panda
DESCRIPTION:
URL:https://qualif.edil33.fr/event/permanence-panda-3/
CATEGORIES:jeux de figurines,PERMANENCE
END:VEVENT
END:VCALENDAR