BEGIN:VCALENDAR
VERSION:2.0
PRODID:-//Association de jeux EDIL - ECPv6.11.2.1//NONSGML v1.0//EN
CALSCALE:GREGORIAN
METHOD:PUBLISH
X-WR-CALNAME:Association de jeux EDIL
X-ORIGINAL-URL:https://qualif.edil33.fr
X-WR-CALDESC:Évènements pour Association de jeux EDIL
REFRESH-INTERVAL;VALUE=DURATION:PT1H
X-Robots-Tag:noindex
X-PUBLISHED-TTL:PT1H
BEGIN:VTIMEZONE
TZID:Europe/Paris
BEGIN:DAYLIGHT
TZOFFSETFROM:+0100
TZOFFSETTO:+0200
TZNAME:CEST
DTSTART:20220327T010000
END:DAYLIGHT
BEGIN:STANDARD
TZOFFSETFROM:+0200
TZOFFSETTO:+0100
TZNAME:CET
DTSTART:20221030T010000
END:STANDARD
END:VTIMEZONE
BEGIN:VEVENT
DTSTART;TZID=Europe/Paris:20220204T190000
DTEND;TZID=Europe/Paris:20220204T233000
DTSTAMP:20260420T055853
CREATED:20220131T231925Z
LAST-MODIFIED:20220131T231925Z
UID:3747-1644001200-1644017400@qualif.edil33.fr
SUMMARY:Permanence daveed
DESCRIPTION:
URL:https://qualif.edil33.fr/event/permanence-daveed-20/
LOCATION:EDIL\, 5 place sainte eulalie\, Bordeaux\, 33000\, France
CATEGORIES:Evenement Interne (de l'EDIL),PERMANENCE
END:VEVENT
BEGIN:VEVENT
DTSTART;TZID=Europe/Paris:20220205T143000
DTEND;TZID=Europe/Paris:20220205T220000
DTSTAMP:20260420T055853
CREATED:20220129T085419Z
LAST-MODIFIED:20220129T085419Z
UID:3731-1644071400-1644098400@qualif.edil33.fr
SUMMARY:Journée Jeux Antiquité
DESCRIPTION:Vous aimez les grands empires\, les religions polythéistes\, les pyramides\, les grandes statues\, les colonnades\, les trirèmes ou encore les jeux du cirque? Alors venez pour une journée sur le thème de l’antiquité en jeu de plateau! ——————Samedi 5 Février à 14h30 ce sera une journée antiquité à l’EDIL. N’oubliez pas vos toges ou votre gladius pour venir tester plusieurs jeux dans cette thématique :– Julius Caesar– 300 Terre et eau– 7th Wonders Architect– Colosseum– Augustus– Tigre et EuphrateEt pleins d’autres jeux dans cette thématique. Si vous n’êtes pas adhérent-e de l’EDIL vous pouvez profitez de la journée en devenant membre à la journée pour seulement 2€!
URL:https://qualif.edil33.fr/event/journee-jeux-antiquite/
LOCATION:EDIL\, 5 place sainte eulalie\, Bordeaux\, 33000\, France
CATEGORIES:Evenement Interne (de l'EDIL),jeux de plateau,PERMANENCE
ATTACH;FMTTYPE=image/jpeg:https://qualif.edil33.fr/wp-content/uploads/2022/01/ANTIQUITE-2.jpg
END:VEVENT
BEGIN:VEVENT
DTSTART;TZID=Europe/Paris:20220206T140000
DTEND;TZID=Europe/Paris:20220206T180000
DTSTAMP:20260420T055853
CREATED:20220202T114931Z
LAST-MODIFIED:20220202T114931Z
UID:3749-1644156000-1644170400@qualif.edil33.fr
SUMMARY:Permanence Panda
DESCRIPTION:
URL:https://qualif.edil33.fr/event/permanence-panda-4/
CATEGORIES:jeux de figurines,PERMANENCE
END:VEVENT
BEGIN:VEVENT
DTSTART;TZID=Europe/Paris:20220210T190000
DTEND;TZID=Europe/Paris:20220210T233000
DTSTAMP:20260420T055853
CREATED:20220207T194636Z
LAST-MODIFIED:20220207T194636Z
UID:3772-1644519600-1644535800@qualif.edil33.fr
SUMMARY:Soirée Jeux au bar Gagnant-Gagnant
DESCRIPTION:
URL:https://qualif.edil33.fr/event/soiree-jeux-au-bar-gagnant-gagnant/
LOCATION:Bar à jeux Gagnant-gagnant\, 39\, 40 Quai de Bacalan\, Bordeaux\, 33000
CATEGORIES:Evénement Externe (Non-EDIL)
ATTACH;FMTTYPE=image/jpeg:https://qualif.edil33.fr/wp-content/uploads/2022/02/logo-gagnant-gagnant.jpg
END:VEVENT
BEGIN:VEVENT
DTSTART;TZID=Europe/Paris:20220211T163000
DTEND;TZID=Europe/Paris:20220211T233000
DTSTAMP:20260420T055853
CREATED:20220207T171036Z
LAST-MODIFIED:20220211T104315Z
UID:3769-1644597000-1644622200@qualif.edil33.fr
SUMMARY:Permanence Drym
DESCRIPTION:
URL:https://qualif.edil33.fr/event/permanence-drym-15/
LOCATION:EDIL\, 5 place sainte eulalie\, Bordeaux\, 33000\, France
CATEGORIES:PERMANENCE
END:VEVENT
BEGIN:VEVENT
DTSTART;TZID=Europe/Paris:20220213T140000
DTEND;TZID=Europe/Paris:20220213T180000
DTSTAMP:20260420T055853
CREATED:20220206T213328Z
LAST-MODIFIED:20220206T213328Z
UID:3765-1644760800-1644775200@qualif.edil33.fr
SUMMARY:Pokemon
DESCRIPTION:Distributions des packs d’AP\, et parties
URL:https://qualif.edil33.fr/event/pokemon/
END:VEVENT
BEGIN:VEVENT
DTSTART;TZID=Europe/Paris:20220214T140000
DTEND;TZID=Europe/Paris:20220214T230000
DTSTAMP:20260420T055853
CREATED:20220212T000708Z
LAST-MODIFIED:20220212T000708Z
UID:3784-1644847200-1644879600@qualif.edil33.fr
SUMMARY:Journée "Jeux à Deux"
DESCRIPTION:Que ce soit l’un contre l’autre ou ensemble face aux défis\, c’est toujours pour le plaisir d’être deux à jouer… Au menu de cette journée\, retrouvez Romeo & Juliette\, 7Wonders duel\, Le roi des Roses. Code names duo\, CIA vs KGB\, Pünct\, Kahuna\, Objection!\, abalone\, Jekyll vs Hyde et tant d’autres…
URL:https://qualif.edil33.fr/event/journee-jeux-a-deux/
LOCATION:EDIL\, 5 place sainte eulalie\, Bordeaux\, 33000\, France
END:VEVENT
BEGIN:VEVENT
DTSTART;TZID=Europe/Paris:20220215T170000
DTEND;TZID=Europe/Paris:20220215T213000
DTSTAMP:20260420T055853
CREATED:20220206T144333Z
LAST-MODIFIED:20220206T144333Z
UID:3762-1644944400-1644960600@qualif.edil33.fr
SUMMARY:Permanence Drym
DESCRIPTION:Le Dilemme du Roi
URL:https://qualif.edil33.fr/event/permanence-drym-14/
LOCATION:EDIL\, 5 place sainte eulalie\, Bordeaux\, 33000\, France
CATEGORIES:PERMANENCE
END:VEVENT
BEGIN:VEVENT
DTSTART;TZID=Europe/Paris:20220216T150000
DTEND;TZID=Europe/Paris:20220216T170000
DTSTAMP:20260420T055853
CREATED:20220206T085945Z
LAST-MODIFIED:20220206T085945Z
UID:3759-1645023600-1645030800@qualif.edil33.fr
SUMMARY:Jeux de plateau à la médiathèque Bois Fleuri
DESCRIPTION:
URL:https://qualif.edil33.fr/event/jeux-de-plateau-a-la-mediatheque-bois-fleuri/
LOCATION:Mediathèque Bois Fleuri\, Pôle culturel et sportif du Bois fleuri\, 1 Rue Lavergne\, Lormont\, 33310
CATEGORIES:Evénement Externe (Non-EDIL),jeux de plateau
END:VEVENT
BEGIN:VEVENT
DTSTART;TZID=Europe/Paris:20220217T173000
DTEND;TZID=Europe/Paris:20220217T233000
DTSTAMP:20260420T055853
CREATED:20220217T162508Z
LAST-MODIFIED:20220217T162508Z
UID:3797-1645119000-1645140600@qualif.edil33.fr
SUMMARY:Permanence Jérôme
DESCRIPTION:
URL:https://qualif.edil33.fr/event/permanence-jerome-4/
LOCATION:EDIL\, 5 place sainte eulalie\, Bordeaux\, 33000\, France
END:VEVENT
BEGIN:VEVENT
DTSTART;TZID=Europe/Paris:20220217T180000
DTEND;TZID=Europe/Paris:20220217T220000
DTSTAMP:20260420T055853
CREATED:20220217T145601Z
LAST-MODIFIED:20220217T145601Z
UID:3795-1645120800-1645135200@qualif.edil33.fr
SUMMARY:ouverture 18h00
DESCRIPTION:
URL:https://qualif.edil33.fr/event/ouverture-18h00/
LOCATION:EDIL\, 5 place sainte eulalie\, Bordeaux\, 33000\, France
END:VEVENT
BEGIN:VEVENT
DTSTART;TZID=Europe/Paris:20220218T163000
DTEND;TZID=Europe/Paris:20220218T233000
DTSTAMP:20260420T055853
CREATED:20220216T163430Z
LAST-MODIFIED:20220216T163430Z
UID:3793-1645201800-1645227000@qualif.edil33.fr
SUMMARY:Permanence Drym
DESCRIPTION:
URL:https://qualif.edil33.fr/event/permanence-drym-16/
LOCATION:EDIL\, 5 place sainte eulalie\, Bordeaux\, 33000\, France
CATEGORIES:PERMANENCE
END:VEVENT
BEGIN:VEVENT
DTSTART;TZID=Europe/Paris:20220219T153000
DTEND;TZID=Europe/Paris:20220219T200000
DTSTAMP:20260420T055853
CREATED:20220218T212841Z
LAST-MODIFIED:20220218T212841Z
UID:3800-1645284600-1645300800@qualif.edil33.fr
SUMMARY:Permanence Pierre
DESCRIPTION:Ouverture vers 15h15. Fermeture suivant les présents.
URL:https://qualif.edil33.fr/event/permanence-pierre/
END:VEVENT
BEGIN:VEVENT
DTSTART;TZID=Europe/Paris:20220220T140000
DTEND;TZID=Europe/Paris:20220220T180000
DTSTAMP:20260420T055853
CREATED:20220206T213359Z
LAST-MODIFIED:20220206T213359Z
UID:3767-1645365600-1645380000@qualif.edil33.fr
SUMMARY:Pokemon
DESCRIPTION:Distribution des packs d’AP et parties
URL:https://qualif.edil33.fr/event/pokemon-2/
END:VEVENT
BEGIN:VEVENT
DTSTART;TZID=Europe/Paris:20220223T173000
DTEND;TZID=Europe/Paris:20220223T200000
DTSTAMP:20260420T055853
CREATED:20220223T105721Z
LAST-MODIFIED:20220223T105721Z
UID:3805-1645637400-1645646400@qualif.edil33.fr
SUMMARY:Permanence Pierre
DESCRIPTION:Horaire de fin en fonction des présents
URL:https://qualif.edil33.fr/event/permanence-pierre-2/
END:VEVENT
BEGIN:VEVENT
DTSTART;TZID=Europe/Paris:20220225T150000
DTEND;TZID=Europe/Paris:20220225T190000
DTSTAMP:20260420T055853
CREATED:20220224T181122Z
LAST-MODIFIED:20220224T181122Z
UID:3808-1645801200-1645815600@qualif.edil33.fr
SUMMARY:Permanence par Lilian
DESCRIPTION:
URL:https://qualif.edil33.fr/event/permanence-par-lilian-8/
LOCATION:EDIL\, 5 place sainte eulalie\, Bordeaux\, 33000\, France
CATEGORIES:PERMANENCE
END:VEVENT
BEGIN:VEVENT
DTSTART;TZID=Europe/Paris:20220225T190000
DTEND;TZID=Europe/Paris:20220225T233000
DTSTAMP:20260420T055853
CREATED:20220221T191857Z
LAST-MODIFIED:20220221T191857Z
UID:3803-1645815600-1645831800@qualif.edil33.fr
SUMMARY:Permanence daveed
DESCRIPTION:
URL:https://qualif.edil33.fr/event/permanence-daveed-21/
LOCATION:EDIL\, 5 place sainte eulalie\, Bordeaux\, 33000\, France
CATEGORIES:Evenement Interne (de l'EDIL),PERMANENCE
END:VEVENT
BEGIN:VEVENT
DTSTART;TZID=Europe/Paris:20220227T150000
DTEND;TZID=Europe/Paris:20220227T180000
DTSTAMP:20260420T055853
CREATED:20220205T082239Z
LAST-MODIFIED:20220205T082248Z
UID:3756-1645974000-1645984800@qualif.edil33.fr
SUMMARY:Asssemblée Générale Extraordinaire 2022
DESCRIPTION:Quand et comment? Elle aura lieu le dimanche 27 Février 2022 à 15h et aura lieu en présentielle (sauf nouvelle déclaration de la préfecture….) ! \n\n\nOù ? A l’EDIL – 5 Place Ste Eulalie- 33000 Bordeaux \n\n\nQuelle heure ? 15h \n\nConsignes à respecter de la salle :\n• Port du masque obligatoire\n• Nettoyer les surfaces contact après notre passage (tables et chaises)\n• Respecter les gestes barrière\n• Laisser un siège libre entre deux personnes et rester assis\n• Ouvrir les portes de temps en temps pour aérer la pièce.\n_________________________________\nA l’ordre du jour:\n-Investissement dans la mise à jour de l’électricité à l’EDIL suite au diagnostic effectué par une entreprise spécialisée.\n-Bilan sur la réparation du velux du grenier\n-Consultation pour investissement dans l’isolation thermique du grenier\n\n-Consultation pour investissement dans une VMC.\n–Consultation pour investissement dans un radiateur supplémentaire en salle arrière et un nouveau radiateur en salle avant.\n-Consultation pour Investissement dans un diagnostic acoustique par un acousticien.\n-Consultation pour Investissement dans une solution acoustique pour l’asso.\n-Petit bilan de mi-année\n-Questions diverses\n\n\nRappel : Pour les votes lors de l’AGE\, si vous n’êtes pas présents\, il vous est possible de donner une procuration à un-e membre. Pour les conditions\, voir les statuts de l’asso. \n\nPour plus de renseignements:\n-Les statuts: http://edil33.fr/lassociation/statuts/\n-Le règlement intérieur: http://edil33.fr/lassociation/reglement-interieur/\n\n\n 
URL:https://qualif.edil33.fr/event/asssemblee-generale-extraordinaire/
LOCATION:EDIL\, 5 place sainte eulalie\, Bordeaux\, 33000\, France
CATEGORIES:Evenement Interne (de l'EDIL)
END:VEVENT
BEGIN:VEVENT
DTSTART;TZID=Europe/Paris:20220228T163000
DTEND;TZID=Europe/Paris:20220228T190000
DTSTAMP:20260420T055853
CREATED:20220228T145734Z
LAST-MODIFIED:20220228T145734Z
UID:3815-1646065800-1646074800@qualif.edil33.fr
SUMMARY:ouverture 16h30
DESCRIPTION:
URL:https://qualif.edil33.fr/event/ouverture-16h30/
END:VEVENT
END:VCALENDAR