BEGIN:VCALENDAR
VERSION:2.0
PRODID:-//Association de jeux EDIL - ECPv6.11.2.1//NONSGML v1.0//EN
CALSCALE:GREGORIAN
METHOD:PUBLISH
X-ORIGINAL-URL:https://qualif.edil33.fr
X-WR-CALDESC:Évènements pour Association de jeux EDIL
REFRESH-INTERVAL;VALUE=DURATION:PT1H
X-Robots-Tag:noindex
X-PUBLISHED-TTL:PT1H
BEGIN:VTIMEZONE
TZID:Europe/Paris
BEGIN:DAYLIGHT
TZOFFSETFROM:+0100
TZOFFSETTO:+0200
TZNAME:CEST
DTSTART:20220327T010000
END:DAYLIGHT
BEGIN:STANDARD
TZOFFSETFROM:+0200
TZOFFSETTO:+0100
TZNAME:CET
DTSTART:20221030T010000
END:STANDARD
END:VTIMEZONE
BEGIN:VEVENT
DTSTART;TZID=Europe/Paris:20220401T190000
DTEND;TZID=Europe/Paris:20220402T000000
DTSTAMP:20260420T023138
CREATED:20220401T171747Z
LAST-MODIFIED:20220401T171747Z
UID:3864-1648839600-1648857600@qualif.edil33.fr
SUMMARY:Permanence
DESCRIPTION:
URL:https://qualif.edil33.fr/event/permanence-16/
LOCATION:EDIL\, 5 place sainte eulalie\, Bordeaux\, 33000\, France
CATEGORIES:PERMANENCE
ORGANIZER;CN="Flomyen":MAILTO:cobaye4@hotmail.com
END:VEVENT
BEGIN:VEVENT
DTSTART;TZID=Europe/Paris:20220403T140000
DTEND;TZID=Europe/Paris:20220403T183000
DTSTAMP:20260420T023138
CREATED:20220331T061932Z
LAST-MODIFIED:20220331T061932Z
UID:3862-1648994400-1649010600@qualif.edil33.fr
SUMMARY:Permanence panda
DESCRIPTION:
URL:https://qualif.edil33.fr/event/permanence-panda-5/
CATEGORIES:jeux de figurines,PERMANENCE
END:VEVENT
BEGIN:VEVENT
DTSTART;TZID=Europe/Paris:20220408T180000
DTEND;TZID=Europe/Paris:20220408T233000
DTSTAMP:20260420T023138
CREATED:20220403T155107Z
LAST-MODIFIED:20220408T074020Z
UID:3867-1649440800-1649460600@qualif.edil33.fr
SUMMARY:Permanence daveed
DESCRIPTION:
URL:https://qualif.edil33.fr/event/permanence-daveed-25/
LOCATION:EDIL\, 5 place sainte eulalie\, Bordeaux\, 33000\, France
CATEGORIES:Evenement Interne (de l'EDIL),PERMANENCE
END:VEVENT
BEGIN:VEVENT
DTSTART;TZID=Europe/Paris:20220409T150000
DTEND;TZID=Europe/Paris:20220409T233000
DTSTAMP:20260420T023138
CREATED:20220403T155347Z
LAST-MODIFIED:20220408T063811Z
UID:3869-1649516400-1649547000@qualif.edil33.fr
SUMMARY:Journée des Jeux
DESCRIPTION:Ce samedi 09 avril aura lieu la Journée des Jeux au bâtiment A9.1 à L’université de Bordeaux\, arrêt de tramway B Peixotto à Talence. C’est un grand événement de jeux de 15h à 01h\, dans lequel seront proposés des jeux de société\, jeux de rôle\, jeux vidéo\, et autres activités avec des associations\, éditeurs et autres professionnels du jeu. Venez avec vos amis ou faites-vous-en !\nhttps://laguildedudelibere.fr/?page_id=403
URL:https://qualif.edil33.fr/event/journee-des-jeux/
LOCATION:Batiment A9 Université de Bordeaux\, Batiment A9\, 351 Cours de la Libération\, Talence\, 33300\, France
CATEGORIES:Evénement Externe (Non-EDIL)
ATTACH;FMTTYPE=image/jpeg:https://qualif.edil33.fr/wp-content/uploads/2022/04/JdJ.jpg
END:VEVENT
BEGIN:VEVENT
DTSTART;TZID=Europe/Paris:20220410T140000
DTEND;TZID=Europe/Paris:20220410T190000
DTSTAMP:20260420T023138
CREATED:20220410T060728Z
LAST-MODIFIED:20220410T060728Z
UID:3896-1649599200-1649617200@qualif.edil33.fr
SUMMARY:Permanence Bushette
DESCRIPTION:
URL:https://qualif.edil33.fr/event/permanence-bushette-3/
LOCATION:EDIL\, 5 place sainte eulalie\, Bordeaux\, 33000\, France
CATEGORIES:Evenement Interne (de l'EDIL),PERMANENCE
END:VEVENT
BEGIN:VEVENT
DTSTART;TZID=Europe/Paris:20220412T190000
DTEND;TZID=Europe/Paris:20220412T230000
DTSTAMP:20260420T023138
CREATED:20220409T091939Z
LAST-MODIFIED:20220409T091939Z
UID:3889-1649790000-1649804400@qualif.edil33.fr
SUMMARY:Permanence
DESCRIPTION:Le conseil du Dilemme du Roi est attendu à 19h
URL:https://qualif.edil33.fr/event/permanence-17/
LOCATION:EDIL\, 5 place sainte eulalie\, Bordeaux\, 33000\, France
CATEGORIES:PERMANENCE
ATTACH;FMTTYPE=image/jpeg:https://qualif.edil33.fr/wp-content/uploads/2022/04/IMG_1462.jpg
END:VEVENT
BEGIN:VEVENT
DTSTART;TZID=Europe/Paris:20220415T190000
DTEND;TZID=Europe/Paris:20220415T233000
DTSTAMP:20260420T023138
CREATED:20220408T203055Z
LAST-MODIFIED:20220408T203152Z
UID:3885-1650049200-1650065400@qualif.edil33.fr
SUMMARY:Permanence daveed
DESCRIPTION:Il y aura une partie de JDR de Château Falkenstein et des parties de jeu de plateau.
URL:https://qualif.edil33.fr/event/permanence-daveed-26/
LOCATION:EDIL\, 5 place sainte eulalie\, Bordeaux\, 33000\, France
CATEGORIES:Evenement Interne (de l'EDIL),PERMANENCE
END:VEVENT
BEGIN:VEVENT
DTSTART;TZID=Europe/Paris:20220416T140000
DTEND;TZID=Europe/Paris:20220416T180000
DTSTAMP:20260420T023138
CREATED:20220415T174310Z
LAST-MODIFIED:20220415T174854Z
UID:3920-1650117600-1650132000@qualif.edil33.fr
SUMMARY:Permanence de Florent
DESCRIPTION:Atelier figurines (montage\,…)
URL:https://qualif.edil33.fr/event/permanence-de-florent/
LOCATION:EDIL\, 5 place sainte eulalie\, Bordeaux\, 33000\, France
CATEGORIES:Evenement Interne (de l'EDIL),PERMANENCE
END:VEVENT
BEGIN:VEVENT
DTSTART;TZID=Europe/Paris:20220417T143000
DTEND;TZID=Europe/Paris:20220417T180000
DTSTAMP:20260420T023138
CREATED:20220415T160412Z
LAST-MODIFIED:20220415T160412Z
UID:3915-1650205800-1650218400@qualif.edil33.fr
SUMMARY:Permanence PoGuinette
DESCRIPTION:1 Table pour Erune\, animée par Danilien
URL:https://qualif.edil33.fr/event/permanence-poguinette/
LOCATION:EDIL\, 5 place sainte eulalie\, Bordeaux\, 33000\, France
CATEGORIES:Evenement Interne (de l'EDIL),jeux de plateau,PERMANENCE
ATTACH;FMTTYPE=image/jpeg:https://qualif.edil33.fr/wp-content/uploads/2022/04/erune.jpg
END:VEVENT
BEGIN:VEVENT
DTSTART;TZID=Europe/Paris:20220419T163000
DTEND;TZID=Europe/Paris:20220419T220000
DTSTAMP:20260420T023138
CREATED:20220418T122557Z
LAST-MODIFIED:20220418T151620Z
UID:3927-1650385800-1650405600@qualif.edil33.fr
SUMMARY:Permanence Drym
DESCRIPTION:Dilemme du Roi
URL:https://qualif.edil33.fr/event/permanence-drym-21/
LOCATION:EDIL\, 5 place sainte eulalie\, Bordeaux\, 33000\, France
CATEGORIES:PERMANENCE
END:VEVENT
BEGIN:VEVENT
DTSTART;TZID=Europe/Paris:20220420T150000
DTEND;TZID=Europe/Paris:20220420T170000
DTSTAMP:20260420T023138
CREATED:20220404T105513Z
LAST-MODIFIED:20220415T093411Z
UID:3879-1650466800-1650474000@qualif.edil33.fr
SUMMARY:Jeu de rôle à la Médiathèque du Bois Fleuri
DESCRIPTION:Nous sommes invités par la Médiathèque du Bois Fleuri à faire 2 sessions de 2h d’initiations au Jeu de Rôle. Si vous voulez en être n’hésitez pas à venir à 15h. Fin de partie à 17h. \n-Shaan Renaissance\n-Partie horreur.
URL:https://qualif.edil33.fr/event/jeu-de-role-a-la-mediatheque-du-bois-fleuri/
LOCATION:Mediathèque Bois Fleuri\, Pôle culturel et sportif du Bois fleuri\, 1 Rue Lavergne\, Lormont\, 33310
CATEGORIES:Evénement Externe (Non-EDIL),Jeux de rôles
ATTACH;FMTTYPE=image/jpeg:https://qualif.edil33.fr/wp-content/uploads/2022/04/logo_boisfleuri.jpg
END:VEVENT
BEGIN:VEVENT
DTSTART;TZID=Europe/Paris:20220420T170000
DTEND;TZID=Europe/Paris:20220420T233000
DTSTAMP:20260420T023138
CREATED:20220420T150624Z
LAST-MODIFIED:20220420T150624Z
UID:3932-1650474000-1650497400@qualif.edil33.fr
SUMMARY:Père Manant ouvre
DESCRIPTION:
URL:https://qualif.edil33.fr/event/pere-manant-ouvre/
LOCATION:EDIL\, 5 place sainte eulalie\, Bordeaux\, 33000\, France
END:VEVENT
BEGIN:VEVENT
DTSTART;TZID=Europe/Paris:20220422T173000
DTEND;TZID=Europe/Paris:20220422T233000
DTSTAMP:20260420T023138
CREATED:20220420T162227Z
LAST-MODIFIED:20220420T162227Z
UID:3934-1650648600-1650670200@qualif.edil33.fr
SUMMARY:Permanence Drym
DESCRIPTION:
URL:https://qualif.edil33.fr/event/permanence-drym-22/
LOCATION:EDIL\, 5 place sainte eulalie\, Bordeaux\, 33000\, France
END:VEVENT
BEGIN:VEVENT
DTSTART;TZID=Europe/Paris:20220423T090000
DTEND;TZID=Europe/Paris:20220423T180000
DTSTAMP:20260420T023138
CREATED:20220418T070652Z
LAST-MODIFIED:20220422T063917Z
UID:3924-1650704400-1650736800@qualif.edil33.fr
SUMMARY:Journée Bricolage du grenier puis jeux
DESCRIPTION:
URL:https://qualif.edil33.fr/event/journee-bricolage-du-grenier/
LOCATION:EDIL\, 5 place sainte eulalie\, Bordeaux\, 33000\, France
CATEGORIES:Evenement Interne (de l'EDIL),PERMANENCE
END:VEVENT
BEGIN:VEVENT
DTSTART;TZID=Europe/Paris:20220424T140000
DTEND;TZID=Europe/Paris:20220424T183000
DTSTAMP:20260420T023138
CREATED:20220423T091658Z
LAST-MODIFIED:20220423T091658Z
UID:3940-1650808800-1650825000@qualif.edil33.fr
SUMMARY:Permanence Ludovic
DESCRIPTION:1 à 2 Tables prévues pour JdR (animation par Charles) \n1 Table prévue pour Erune (animation par Daniel)
URL:https://qualif.edil33.fr/event/permanence-ludovic/
LOCATION:EDIL\, 5 place sainte eulalie\, Bordeaux\, 33000\, France
CATEGORIES:Evenement Interne (de l'EDIL),jeux de plateau,Jeux de rôles,PERMANENCE
END:VEVENT
BEGIN:VEVENT
DTSTART;TZID=Europe/Paris:20220426T170000
DTEND;TZID=Europe/Paris:20220426T220000
DTSTAMP:20260420T023138
CREATED:20220425T062647Z
LAST-MODIFIED:20220425T160800Z
UID:3945-1650992400-1651010400@qualif.edil33.fr
SUMMARY:Permanence Drym et Ludo
DESCRIPTION:Dilemme du Roi
URL:https://qualif.edil33.fr/event/permanence-drym-23/
LOCATION:EDIL\, 5 place sainte eulalie\, Bordeaux\, 33000\, France
CATEGORIES:PERMANENCE
END:VEVENT
BEGIN:VEVENT
DTSTART;TZID=Europe/Paris:20220427T183000
DTEND;TZID=Europe/Paris:20220427T223000
DTSTAMP:20260420T023138
CREATED:20220422T135005Z
LAST-MODIFIED:20220425T163753Z
UID:3937-1651084200-1651098600@qualif.edil33.fr
SUMMARY:Permanence Murlock
DESCRIPTION:1 table pour Erune\, jeu animé par Daniel
URL:https://qualif.edil33.fr/event/permanence-murlock-9/
LOCATION:EDIL\, 5 place sainte eulalie\, Bordeaux\, 33000\, France
END:VEVENT
BEGIN:VEVENT
DTSTART;TZID=Europe/Paris:20220429T180000
DTEND;TZID=Europe/Paris:20220429T230000
DTSTAMP:20260420T023138
CREATED:20220429T100238Z
LAST-MODIFIED:20220429T100238Z
UID:3957-1651255200-1651273200@qualif.edil33.fr
SUMMARY:Permanence de Yunyun
DESCRIPTION:Hello\, petite ouverture du jour \nau programme du jeu et du jeu de plateau. \n  \nFin de la permanence vers 23/23h30.
URL:https://qualif.edil33.fr/event/permanence-de-yunyun-3/
LOCATION:EDIL\, 5 place sainte eulalie\, Bordeaux\, 33000\, France
CATEGORIES:jeux de plateau,PERMANENCE
END:VEVENT
END:VCALENDAR