BEGIN:VCALENDAR
VERSION:2.0
PRODID:-//Association de jeux EDIL - ECPv6.11.2.1//NONSGML v1.0//EN
CALSCALE:GREGORIAN
METHOD:PUBLISH
X-WR-CALNAME:Association de jeux EDIL
X-ORIGINAL-URL:https://qualif.edil33.fr
X-WR-CALDESC:Évènements pour Association de jeux EDIL
REFRESH-INTERVAL;VALUE=DURATION:PT1H
X-Robots-Tag:noindex
X-PUBLISHED-TTL:PT1H
BEGIN:VTIMEZONE
TZID:Europe/Paris
BEGIN:DAYLIGHT
TZOFFSETFROM:+0100
TZOFFSETTO:+0200
TZNAME:CEST
DTSTART:20220327T010000
END:DAYLIGHT
BEGIN:STANDARD
TZOFFSETFROM:+0200
TZOFFSETTO:+0100
TZNAME:CET
DTSTART:20221030T010000
END:STANDARD
END:VTIMEZONE
BEGIN:VEVENT
DTSTART;TZID=Europe/Paris:20220902T173000
DTEND;TZID=Europe/Paris:20220902T230000
DTSTAMP:20260419T182126
CREATED:20220831T070411Z
LAST-MODIFIED:20220902T150501Z
UID:4243-1662139800-1662159600@qualif.edil33.fr
SUMMARY:Permanence Drym
DESCRIPTION:
URL:https://qualif.edil33.fr/event/permanence-drym-34/
LOCATION:EDIL\, 5 place sainte eulalie\, Bordeaux\, 33000\, France
CATEGORIES:PERMANENCE
END:VEVENT
BEGIN:VEVENT
DTSTART;TZID=Europe/Paris:20220903T140000
DTEND;TZID=Europe/Paris:20220903T180000
DTSTAMP:20260419T182126
CREATED:20220903T071616Z
LAST-MODIFIED:20220903T071616Z
UID:4263-1662213600-1662228000@qualif.edil33.fr
SUMMARY:Pokemon
DESCRIPTION:
URL:https://qualif.edil33.fr/event/pokemon-5/
LOCATION:EDIL\, 5 place sainte eulalie\, Bordeaux\, 33000\, France
END:VEVENT
BEGIN:VEVENT
DTSTART;TZID=Europe/Paris:20220903T150000
DTEND;TZID=Europe/Paris:20220903T190000
DTSTAMP:20260419T182126
CREATED:20220415T092825Z
LAST-MODIFIED:20220901T192827Z
UID:3905-1662217200-1662231600@qualif.edil33.fr
SUMMARY:Fête du Jeu de St Savin
DESCRIPTION:DeSeul\, en famille ou entre amis nous rejoindre au parc Marie Curie de Saint Savin pour une après-midi conviviale\, pour découvrir ou redécouvrir les jeux de société\, jeux d’ambiance par équipe ou jeux de stratégie. \nUne fête pour tous les âges ! \nL’EDIL sera présent pour faire 3 sessions d’initiation d’1h au Jeu de Rôle.
URL:https://qualif.edil33.fr/event/fete-du-jeu-de-st-savin/
LOCATION:Parc Marie Curie\, 1 Place de la Mairie\, Saint-Savin\, 33920\, France
CATEGORIES:Evénement Externe (Non-EDIL)
ATTACH;FMTTYPE=image/jpeg:https://qualif.edil33.fr/wp-content/uploads/2022/04/image-1.jpg
END:VEVENT
BEGIN:VEVENT
DTSTART;TZID=Europe/Paris:20220904T140000
DTEND;TZID=Europe/Paris:20220904T180000
DTSTAMP:20260419T182126
CREATED:20220903T071648Z
LAST-MODIFIED:20220903T071648Z
UID:4265-1662300000-1662314400@qualif.edil33.fr
SUMMARY:Pokemon
DESCRIPTION:
URL:https://qualif.edil33.fr/event/pokemon-6/
LOCATION:EDIL\, 5 place sainte eulalie\, Bordeaux\, 33000\, France
END:VEVENT
BEGIN:VEVENT
DTSTART;TZID=Europe/Paris:20220906T163000
DTEND;TZID=Europe/Paris:20220906T193000
DTSTAMP:20260419T182126
CREATED:20220831T102603Z
LAST-MODIFIED:20220903T151320Z
UID:4245-1662481800-1662492600@qualif.edil33.fr
SUMMARY:Permanence Drym
DESCRIPTION:
URL:https://qualif.edil33.fr/event/permanence-drym-35/
LOCATION:EDIL\, 5 place sainte eulalie\, Bordeaux\, 33000\, France
CATEGORIES:PERMANENCE
END:VEVENT
BEGIN:VEVENT
DTSTART;TZID=Europe/Paris:20220907T163000
DTEND;TZID=Europe/Paris:20220907T223000
DTSTAMP:20260419T182126
CREATED:20220903T233109Z
LAST-MODIFIED:20220903T233137Z
UID:4272-1662568200-1662589800@qualif.edil33.fr
SUMMARY:Permanence Drym
DESCRIPTION:Dilemme du Roi le retour !
URL:https://qualif.edil33.fr/event/permanence-drym-36/
LOCATION:EDIL\, 5 place sainte eulalie\, Bordeaux\, 33000\, France
END:VEVENT
BEGIN:VEVENT
DTSTART;TZID=Europe/Paris:20220908T183000
DTEND;TZID=Europe/Paris:20220908T220000
DTSTAMP:20260419T182126
CREATED:20220903T160625Z
LAST-MODIFIED:20220903T160625Z
UID:4268-1662661800-1662674400@qualif.edil33.fr
SUMMARY:Permanence par Lilian
DESCRIPTION:JDR de prévu (table complète)
URL:https://qualif.edil33.fr/event/permanence-par-lilian-12/
LOCATION:EDIL\, 5 place sainte eulalie\, Bordeaux\, 33000\, France
CATEGORIES:Evenement Interne (de l'EDIL)
END:VEVENT
BEGIN:VEVENT
DTSTART;TZID=Europe/Paris:20220909T163000
DTEND;TZID=Europe/Paris:20220909T233000
DTSTAMP:20260419T182126
CREATED:20220909T053430Z
LAST-MODIFIED:20220909T053430Z
UID:4279-1662741000-1662766200@qualif.edil33.fr
SUMMARY:Permanence Drym
DESCRIPTION:
URL:https://qualif.edil33.fr/event/permanence-drym-37/
LOCATION:EDIL\, 5 place sainte eulalie\, Bordeaux\, 33000\, France
CATEGORIES:PERMANENCE
END:VEVENT
BEGIN:VEVENT
DTSTART;TZID=Europe/Paris:20220910T143000
DTEND;TZID=Europe/Paris:20220910T200000
DTSTAMP:20260419T182126
CREATED:20220903T160733Z
LAST-MODIFIED:20220903T160733Z
UID:4270-1662820200-1662840000@qualif.edil33.fr
SUMMARY:Permanence par Lilian
DESCRIPTION:
URL:https://qualif.edil33.fr/event/permanence-par-lilian-13/
LOCATION:EDIL\, 5 place sainte eulalie\, Bordeaux\, 33000\, France
CATEGORIES:PERMANENCE
ATTACH;FMTTYPE=image/jpeg:https://qualif.edil33.fr/wp-content/uploads/2021/05/PERMANENCE.jpg
END:VEVENT
BEGIN:VEVENT
DTSTART;TZID=Europe/Paris:20220911T150000
DTEND;TZID=Europe/Paris:20220911T180000
DTSTAMP:20260419T182126
CREATED:20220724T074341Z
LAST-MODIFIED:20220812T083658Z
UID:4178-1662908400-1662919200@qualif.edil33.fr
SUMMARY:Assemblée Générale Ordinaire 2022
DESCRIPTION:Le dimanche 11 Septembre 2022 aura lieu l’Assemblée Générale Ordinaire de l’association à 15h à l’EDIL. \nA l’ordre du jour:\n-Bilan Moral\n-Bilan Financier\n-Remerciement de nos partenaires et de nos donateurs-donatrices.\n-Discussion à propos du local de l’asso (fonctionnement\, etc).\n-Discussion sur l’organisation de l’association et les groupes de travails (ouverture du local\, rangement\, course\, gestion de l’espace\, etc…)\n-Discussion sur les activités actuelles (jeu de plateau\, jdr\, figurines\, \, etc…) et futures de l’association (évènements extérieurs\, partenariat Ligue in Bordeaux\, association Furiten ya\, etc…)\n-Questions diverses: réparation du velux et du toit réaménagement du grenier.\n– Élection du nouveau Bureau (si vous souhaitez vous présentez vous pouvez répondre à ce mail). \nRappel : pour le vote du bureau\, si vous n’êtes pas présents\, une procuration est possible. Un membre de l’asso peut être mandataire d’une seul procuration. \nil faut être à jour d’adhésion pour pouvoir participer au vote. On rappelle que les adhésions sont à renouveler dès le 1er septembre. Pour les conditions\, voir statuts de l’asso. \nPour plus de renseignements:\n-Les statuts: http://edil33.fr/lassociation/statuts/\n-Le règlement intérieur: http://edil33.fr/lassociation/reglement-interieur/
URL:https://qualif.edil33.fr/event/assemblee-generale-ordinaire-2022/
LOCATION:EDIL\, 5 place sainte eulalie\, Bordeaux\, 33000\, France
CATEGORIES:Evenement Interne (de l'EDIL)
END:VEVENT
BEGIN:VEVENT
DTSTART;TZID=Europe/Paris:20220913T190000
DTEND;TZID=Europe/Paris:20220913T220000
DTSTAMP:20260419T182126
CREATED:20220913T092811Z
LAST-MODIFIED:20220913T092811Z
UID:4290-1663095600-1663106400@qualif.edil33.fr
SUMMARY:Permanence PoG
DESCRIPTION:
URL:https://qualif.edil33.fr/event/permanence-pog-2/
LOCATION:EDIL\, 5 place sainte eulalie\, Bordeaux\, 33000\, France
CATEGORIES:PERMANENCE
END:VEVENT
BEGIN:VEVENT
DTSTART;TZID=Europe/Paris:20220915T150000
DTEND;TZID=Europe/Paris:20220915T210000
DTSTAMP:20260419T182126
CREATED:20220914T105627Z
LAST-MODIFIED:20220914T105627Z
UID:4296-1663254000-1663275600@qualif.edil33.fr
SUMMARY:Permanence Watanuki
DESCRIPTION:
URL:https://qualif.edil33.fr/event/permanence-watanuki/
LOCATION:EDIL\, 5 place sainte eulalie\, Bordeaux\, 33000\, France
CATEGORIES:PERMANENCE
END:VEVENT
BEGIN:VEVENT
DTSTART;TZID=Europe/Paris:20220916T170000
DTEND;TZID=Europe/Paris:20220916T230000
DTSTAMP:20260419T182126
CREATED:20220916T070445Z
LAST-MODIFIED:20220916T070445Z
UID:4305-1663347600-1663369200@qualif.edil33.fr
SUMMARY:Permanence de Yunyun
DESCRIPTION:Bonjour\, aujourd’hui ouverture à 17h pour du jeu de plateaux !
URL:https://qualif.edil33.fr/event/permanence-de-yunyun-8/
LOCATION:EDIL\, 5 place sainte eulalie\, Bordeaux\, 33000\, France
CATEGORIES:jeux de plateau,Jeux de rôles,PERMANENCE
END:VEVENT
BEGIN:VEVENT
DTSTART;TZID=Europe/Paris:20220917T140000
DTEND;TZID=Europe/Paris:20220917T190000
DTSTAMP:20260419T182126
CREATED:20220914T051536Z
LAST-MODIFIED:20220914T051738Z
UID:4292-1663423200-1663441200@qualif.edil33.fr
SUMMARY:Permanence Daveed
DESCRIPTION:
URL:https://qualif.edil33.fr/event/permanence-daveed-43/
LOCATION:EDIL\, 5 place sainte eulalie\, Bordeaux\, 33000\, France
CATEGORIES:PERMANENCE
END:VEVENT
BEGIN:VEVENT
DTSTART;TZID=Europe/Paris:20220917T150000
DTEND;TZID=Europe/Paris:20220917T170000
DTSTAMP:20260419T182126
CREATED:20220913T083851Z
LAST-MODIFIED:20220913T083922Z
UID:4286-1663426800-1663434000@qualif.edil33.fr
SUMMARY:Réunion des adhérent-e-s
DESCRIPTION:
URL:https://qualif.edil33.fr/event/reunion-des-adherent-e-s/
LOCATION:EDIL\, 5 place sainte eulalie\, Bordeaux\, 33000\, France
CATEGORIES:Evenement Interne (de l'EDIL),PERMANENCE
END:VEVENT
BEGIN:VEVENT
DTSTART;TZID=Europe/Paris:20220918T130000
DTEND;TZID=Europe/Paris:20220918T190000
DTSTAMP:20260419T182126
CREATED:20220907T164009Z
LAST-MODIFIED:20220907T164009Z
UID:4277-1663506000-1663527600@qualif.edil33.fr
SUMMARY:Tournoi Pokemon Team Challenge
DESCRIPTION:Premier tournoi de qualification pour le Team Challenge.\n2€ d’adhésion pour l’EDIL \nDébut du tournoi 14h\nDeck list obligatoire\nFormat : Standard en Bo3 de 45 min
URL:https://qualif.edil33.fr/event/tournoi-pokemon-team-challenge/
LOCATION:EDIL\, 5 place sainte eulalie\, Bordeaux\, 33000\, France
CATEGORIES:Pokémon JCC
END:VEVENT
BEGIN:VEVENT
DTSTART;TZID=Europe/Paris:20220924T183000
DTEND;TZID=Europe/Paris:20220924T230000
DTSTAMP:20260419T182126
CREATED:20220914T051653Z
LAST-MODIFIED:20220918T071126Z
UID:4294-1664044200-1664060400@qualif.edil33.fr
SUMMARY:Soirée de rentrée
DESCRIPTION:
URL:https://qualif.edil33.fr/event/soiree-de-rentree-3/
LOCATION:EDIL\, 5 place sainte eulalie\, Bordeaux\, 33000\, France
CATEGORIES:Evenement Interne (de l'EDIL)
END:VEVENT
BEGIN:VEVENT
DTSTART;TZID=Europe/Paris:20220925T133000
DTEND;TZID=Europe/Paris:20220925T230000
DTSTAMP:20260419T182126
CREATED:20220912T202848Z
LAST-MODIFIED:20220912T202848Z
UID:4284-1664112600-1664146800@qualif.edil33.fr
SUMMARY:Tournoi Ark Nova
DESCRIPTION:Rendez vous sur le Discord de l’EDIL pour s’inscrire
URL:https://qualif.edil33.fr/event/tournoi-ark-nova/
LOCATION:EDIL\, 5 place sainte eulalie\, Bordeaux\, 33000\, France
END:VEVENT
END:VCALENDAR